BEGIN:VCALENDAR
VERSION:2.0
PRODID:-//InvisionCommunity Events 4.7.22//EN
METHOD:PUBLISH
CALSCALE:GREGORIAN
REFRESH-INTERVAL:PT15M
X-PUBLISHED-TTL:PT15M
X-WR-CALNAME:Eventi Commerciali
NAME:Eventi Commerciali
BEGIN:VTIMEZONE
TZID:Europe/London
TZURL:http://tzurl.org/zoneinfo/Europe/London
X-LIC-LOCATION:Europe/London
BEGIN:DAYLIGHT
TZOFFSETFROM:+0000
TZOFFSETTO:+0100
TZNAME:BST
DTSTART:20240331T020000Z
RRULE:FREQ=YEARLY;BYMONTH=3;BYDAY=-1SU
END:DAYLIGHT
BEGIN:STANDARD
TZOFFSETFROM:+0100
TZOFFSETTO:+0000
TZNAME:GMT
DTSTART:20241027T020000Z
RRULE:FREQ=YEARLY;BYMONTH=10;BYDAY=-1SU
END:STANDARD
END:VTIMEZONE
BEGIN:VEVENT
SUMMARY:New York International Numismatic Convention
DTSTAMP:20230619T122221Z
SEQUENCE:0
UID:1161-2-6ccd8bfbdc7d7428e7082354d408d14b@www.lamoneta.it
ORGANIZER;CN="incuso":no-reply@lamoneta.it
DESCRIPTION:The New York International Numismatic Convention is the Unit
	ed States’ largest and most prestigious numismatic event targeting the n
	eeds of the foreign and ancient numismatic communities.  The 52st Annual 
	NYINC will be held at the InterContinental  New York Barclay hotel\, loca
	ted 111 East 48 Street\, New York\, NY  10017\, at Lexington Avenue. \n
DTSTART;VALUE=DATE:20240112
DTEND;VALUE=DATE:20240115
END:VEVENT
END:VCALENDAR
