BEGIN:VCALENDAR
VERSION:2.0
PRODID:-//InvisionCommunity Events 4.7.22//EN
METHOD:PUBLISH
CALSCALE:GREGORIAN
REFRESH-INTERVAL:PT15M
X-PUBLISHED-TTL:PT15M
X-WR-CALNAME:Eventi culturali
NAME:Eventi culturali
BEGIN:VTIMEZONE
TZID:Europe/London
TZURL:http://tzurl.org/zoneinfo/Europe/London
X-LIC-LOCATION:Europe/London
BEGIN:DAYLIGHT
TZOFFSETFROM:+0000
TZOFFSETTO:+0100
TZNAME:BST
DTSTART:20230326T020000Z
RRULE:FREQ=YEARLY;BYMONTH=3;BYDAY=-1SU
END:DAYLIGHT
BEGIN:STANDARD
TZOFFSETFROM:+0100
TZOFFSETTO:+0000
TZNAME:GMT
DTSTART:20231029T020000Z
RRULE:FREQ=YEARLY;BYMONTH=10;BYDAY=-1SU
END:STANDARD
END:VTIMEZONE
BEGIN:VEVENT
SUMMARY:RITORNA \" MILANO NUMISMATICA \"
DTSTAMP:20230630T090549Z
SEQUENCE:0
UID:1166-1-6ccd8bfbdc7d7428e7082354d408d14b@www.lamoneta.it
ORGANIZER;CN="dabbene":no-reply@lamoneta.it
DESCRIPTION:\n	Ritorna \" Milano Numismatica \" l'11 novembre 2023\, sab
	ato\, a Milano all'Hotel Sina De La Ville\, Via Ulrico Hoepli 6\, Milano\,
	 dalle ore 9\,45.\n\n\n\n	MM1 fermata Duomo o San Babila.\n\n\n\n	Consegne
	 dei cartacei e presentazioni con gli autori del nuovo Gazzettino di Quell
	i del Cordusio n. 10.\n\n\n\n	27 articoli\, numerose briciole\, 180 pagine
	.\n\n\n\n	A seguire Workshop con esperti di numismatica sulla qualità e c
	onservazione delle monete.\n\n\n\n	Il Workshop si svolgerà ai tavoli alla
	 presenza degli esperti con le monete in mano e divisi per periodi storici
	 della monetazione.\n\n\n\n	Si prevedono altre attività che saranno comun
	icate nel tempo.\n\n\n\n	Ingresso libero ma con prenotazione a quellidelco
	rdusio.info@gmail.com\n\n\n\n	 \n\n
DTSTART:20231111T084500Z
DTEND:20231111T120000Z
END:VEVENT
END:VCALENDAR
