BEGIN:VCALENDAR
VERSION:2.0
PRODID:-//InvisionCommunity Events 4.7.22//EN
METHOD:PUBLISH
CALSCALE:GREGORIAN
REFRESH-INTERVAL:PT15M
X-PUBLISHED-TTL:PT15M
X-WR-CALNAME:Eventi Commerciali
NAME:Eventi Commerciali
BEGIN:VTIMEZONE
TZID:Europe/London
TZURL:http://tzurl.org/zoneinfo/Europe/London
X-LIC-LOCATION:Europe/London
BEGIN:DAYLIGHT
TZOFFSETFROM:+0000
TZOFFSETTO:+0100
TZNAME:BST
DTSTART:20240331T020000Z
RRULE:FREQ=YEARLY;BYMONTH=3;BYDAY=-1SU
END:DAYLIGHT
BEGIN:STANDARD
TZOFFSETFROM:+0100
TZOFFSETTO:+0000
TZNAME:GMT
DTSTART:20241027T020000Z
RRULE:FREQ=YEARLY;BYMONTH=10;BYDAY=-1SU
END:STANDARD
END:VTIMEZONE
BEGIN:VEVENT
SUMMARY:Cingoli (MC) - Convegno Filatelico Numismatico
DTSTAMP:20240206T083902Z
SEQUENCE:0
UID:1209-2-6ccd8bfbdc7d7428e7082354d408d14b@www.lamoneta.it
ORGANIZER;CN="incuso":no-reply@lamoneta.it
DESCRIPTION:Il Circolo Filatelico Numismatico di Cingoli terrà il XXVI 
	Convegno Filatelico Numismatico domenica 28 aprile 2024\, dalle 7\,00 alle
	 13\,00 presso il Mercato Coperto di Cingoli\, in viale della Carità n. 1
	 L’evento è aperto a commercianti e collezionisti di materiale filateli
	co\, numismatico\, libri\, stampe e oggettistica varia\, e richiama operat
	ori prevalentemente regionali\, unico evento del genere nella provincia di
	 Macerata. Ingresso libero. Per informazioni: Circolo Filatelico Numismati
	co Pio VIII\, C.so Garibaldi\, 19\, Cingoli (MC) e-mail: circolofilnum@lib
	ero.it
DTSTART:20240428T050000Z
DTEND:20240428T110000Z
END:VEVENT
END:VCALENDAR
