BEGIN:VCALENDAR
VERSION:2.0
PRODID:-//InvisionCommunity Events 4.7.22//EN
METHOD:PUBLISH
CALSCALE:GREGORIAN
REFRESH-INTERVAL:PT15M
X-PUBLISHED-TTL:PT15M
X-WR-CALNAME:Eventi Commerciali
NAME:Eventi Commerciali
BEGIN:VTIMEZONE
TZID:Europe/London
TZURL:http://tzurl.org/zoneinfo/Europe/London
X-LIC-LOCATION:Europe/London
BEGIN:DAYLIGHT
TZOFFSETFROM:+0000
TZOFFSETTO:+0100
TZNAME:BST
DTSTART:20240331T020000Z
RRULE:FREQ=YEARLY;BYMONTH=3;BYDAY=-1SU
END:DAYLIGHT
BEGIN:STANDARD
TZOFFSETFROM:+0100
TZOFFSETTO:+0000
TZNAME:GMT
DTSTART:20241027T020000Z
RRULE:FREQ=YEARLY;BYMONTH=10;BYDAY=-1SU
END:STANDARD
END:VTIMEZONE
BEGIN:VEVENT
SUMMARY:Veronafil - novembre 2024
DTSTAMP:20240512T131229Z
SEQUENCE:0
UID:1244-2-6ccd8bfbdc7d7428e7082354d408d14b@www.lamoneta.it
ORGANIZER;CN="incuso":no-reply@lamoneta.it
DESCRIPTION:INGRESSO A PAGAMENTO! \n\nPresso il Padiglione 9. Si svilupp
	a su una superficie di oltre 11.000 mq\, articolata in vari settori: Filat
	elia\,Numismatica\, Cartoline\, Stampe e libri antichi\, Miscellanea\,Tele
	karte\, Kinder e altro.
DTSTART;VALUE=DATE:20241121
DTEND;VALUE=DATE:20241124
END:VEVENT
END:VCALENDAR
