BEGIN:VCALENDAR
VERSION:2.0
PRODID:-//InvisionCommunity Events 4.7.22//EN
METHOD:PUBLISH
CALSCALE:GREGORIAN
REFRESH-INTERVAL:PT15M
X-PUBLISHED-TTL:PT15M
X-WR-CALNAME:Eventi culturali
NAME:Eventi culturali
BEGIN:VTIMEZONE
TZID:Europe/London
TZURL:http://tzurl.org/zoneinfo/Europe/London
X-LIC-LOCATION:Europe/London
BEGIN:DAYLIGHT
TZOFFSETFROM:+0000
TZOFFSETTO:+0100
TZNAME:BST
DTSTART:20060326T020000Z
RRULE:FREQ=YEARLY;BYMONTH=3;BYDAY=-1SU
END:DAYLIGHT
BEGIN:STANDARD
TZOFFSETFROM:+0100
TZOFFSETTO:+0000
TZNAME:GMT
DTSTART:20061029T020000Z
RRULE:FREQ=YEARLY;BYMONTH=10;BYDAY=-1SU
END:STANDARD
END:VTIMEZONE
BEGIN:VEVENT
SUMMARY:Convegno FIL.-NUM. CESENATICO (FC)
DTSTAMP:20060616T220001Z
SEQUENCE:1
UID:126-1-6ccd8bfbdc7d7428e7082354d408d14b@www.lamoneta.it
ORGANIZER;CN="rcamil":no-reply@lamoneta.it
DESCRIPTION:\n10° Convegno filatelico-numismatico\nCESENATICO - PALESTR
	A I.T.C. \"G. AGNELLI\"- VIALE CARDUCCI 179\nORARI:\n17 sab. 0\,9\,00/12\,
	30-15\,00/18\,30\n18 dom. 9\,00/13\,00\nInfo:\nCIRCOLO FILATELICO NUMISMAT
	ICO - CESENA\nTel. 0547-612954 - cell. 329-7442202\n
DTSTART:20060616T020000Z
DTEND:20060618T135959Z
END:VEVENT
END:VCALENDAR
