BEGIN:VCALENDAR
VERSION:2.0
PRODID:-//InvisionCommunity Events 4.7.22//EN
METHOD:PUBLISH
CALSCALE:GREGORIAN
REFRESH-INTERVAL:PT15M
X-PUBLISHED-TTL:PT15M
X-WR-CALNAME:Eventi Commerciali
NAME:Eventi Commerciali
BEGIN:VTIMEZONE
TZID:Europe/London
TZURL:http://tzurl.org/zoneinfo/Europe/London
X-LIC-LOCATION:Europe/London
BEGIN:DAYLIGHT
TZOFFSETFROM:+0000
TZOFFSETTO:+0100
TZNAME:BST
DTSTART:20250330T020000Z
RRULE:FREQ=YEARLY;BYMONTH=3;BYDAY=-1SU
END:DAYLIGHT
BEGIN:STANDARD
TZOFFSETFROM:+0100
TZOFFSETTO:+0000
TZNAME:GMT
DTSTART:20251026T020000Z
RRULE:FREQ=YEARLY;BYMONTH=10;BYDAY=-1SU
END:STANDARD
END:VTIMEZONE
BEGIN:VEVENT
SUMMARY:Madrid - Evento Numismático Internacional
DTSTAMP:20250120T162601Z
SEQUENCE:0
UID:1302-2-6ccd8bfbdc7d7428e7082354d408d14b@www.lamoneta.it
ORGANIZER;CN="FICN":no-reply@lamoneta.it
DESCRIPTION:Evento numismatico che cerca di offrire nella capitale della
	 Spagna un punto d'incontro tra numismatici spagnoli e internazionali. Com
	mercianti\, collezionisti\, istituzioni e accademici internazionali – eu
	ropei\,americani e latinoamericani – si incontreranno a Madrid per incon
	trare i loro colleghi spagnoli. I commercianti e i tifosi spagnoli\, a lor
	o volta\, avranno l'opportunità di accedere a commercianti internazionali
	 di alto livello a Madrid. Ciò rappresenta una vera opportunità poiché 
	fino ad ora era necessario viaggiare in America o in Europa centrale per t
	rovare questi stessi commercianti. Per informazioni: info@eventonumismatic
	o.es
DTSTART;VALUE=DATE:20250625
DTEND;VALUE=DATE:20250629
END:VEVENT
END:VCALENDAR
