BEGIN:VCALENDAR
VERSION:2.0
PRODID:-//InvisionCommunity Events 4.7.22//EN
METHOD:PUBLISH
CALSCALE:GREGORIAN
REFRESH-INTERVAL:PT15M
X-PUBLISHED-TTL:PT15M
X-WR-CALNAME:Eventi culturali
NAME:Eventi culturali
BEGIN:VTIMEZONE
TZID:Europe/London
TZURL:http://tzurl.org/zoneinfo/Europe/London
X-LIC-LOCATION:Europe/London
BEGIN:DAYLIGHT
TZOFFSETFROM:+0000
TZOFFSETTO:+0100
TZNAME:BST
DTSTART:20250330T020000Z
RRULE:FREQ=YEARLY;BYMONTH=3;BYDAY=-1SU
END:DAYLIGHT
BEGIN:STANDARD
TZOFFSETFROM:+0100
TZOFFSETTO:+0000
TZNAME:GMT
DTSTART:20251026T020000Z
RRULE:FREQ=YEARLY;BYMONTH=10;BYDAY=-1SU
END:STANDARD
END:VTIMEZONE
BEGIN:VEVENT
SUMMARY:STORIA\, MONETE E MEDAGLIE DI ALESSANDRO VI
DTSTAMP:20250515T200214Z
SEQUENCE:0
UID:1343-1-6ccd8bfbdc7d7428e7082354d408d14b@www.lamoneta.it
ORGANIZER;CN="Viteliu":no-reply@lamoneta.it
DESCRIPTION:\n	Inaugurazione della Mostra: “STORIA\, MONETE E MEDAGLIE
	 DI ALESSANDRO VI” e Lucrezia Borgia.\n\n\n\n	La Mostra è stata organiz
	zata con una collaborazione tra:\n\n	il Circolo Numismatico Romano-Laziale
	\, il Museo Civico Archeologico di Nepi e l'Ente Palio dei Borgia di Nepi\
	, con il patrocinio dell'Ente Palio dei Borgia di Nepi e il Comune di Nepi
	.\n\n\n\n	L'inaugurazione avverrà sabato 7 giugno\, alle ore 10:30\, al M
	useo Civico Archeologico di Nepi in Via Falisca n. 31 - tel. 0761 570604\n
	\n\n\n	La Mostra sarà visitabile dal 7 al 21 giugno 2025 nei seguenti ora
	ri:\n\n\n\n	Martedì\, mercoledì e giovedì: 11:00 – 13:00 / 15:00 – 
	17:00\n\n	Venerdì: 10:00 – 13:00 / 15:00 – 19:00\n\n	Sabato e domenic
	a 10:00 – 13:00 /15:00 – 19:00\n\n	Lunedì chiuso\n\n\n\n	 \n\n\n\n	C
	ome da programma durante l'inaugurazione potremo seguire gli interventi\, 
	dopo i saluti delle autorità\, del dott. Stefano Francocci e dell'avv. Ri
	ccardo Sideri.\n\n\n\n	In esposizione\, oltre a diversi pannelli storici e
	 numismatici\, troverete anche esemplari numismatici di Alessandro VI.\n\n
	\n\n	 \n\n
DTSTART:20250607T083000Z
DTEND:20250621T170000Z
END:VEVENT
END:VCALENDAR
