BEGIN:VCALENDAR
VERSION:2.0
PRODID:-//InvisionCommunity Events 4.7.22//EN
METHOD:PUBLISH
CALSCALE:GREGORIAN
REFRESH-INTERVAL:PT15M
X-PUBLISHED-TTL:PT15M
X-WR-CALNAME:Eventi culturali
NAME:Eventi culturali
BEGIN:VTIMEZONE
TZID:Europe/London
TZURL:http://tzurl.org/zoneinfo/Europe/London
X-LIC-LOCATION:Europe/London
BEGIN:DAYLIGHT
TZOFFSETFROM:+0000
TZOFFSETTO:+0100
TZNAME:BST
DTSTART:20250330T020000Z
RRULE:FREQ=YEARLY;BYMONTH=3;BYDAY=-1SU
END:DAYLIGHT
BEGIN:STANDARD
TZOFFSETFROM:+0100
TZOFFSETTO:+0000
TZNAME:GMT
DTSTART:20251026T020000Z
RRULE:FREQ=YEARLY;BYMONTH=10;BYDAY=-1SU
END:STANDARD
END:VTIMEZONE
BEGIN:VEVENT
SUMMARY:Presentazione del volume: \"I MITI IN TASCA\"
DTSTAMP:20250904T151737Z
SEQUENCE:0
UID:1366-1-6ccd8bfbdc7d7428e7082354d408d14b@www.lamoneta.it
ORGANIZER;CN="Viteliu":no-reply@lamoneta.it
DESCRIPTION:\n	Buonasera a tutti\, siete tutti invitati il 20 settembre\
	, alle ore 11:00\, nel salone del Museo Civico Archeologico di Nepi\, alla
	 Presentazione dell’ultima fatica letteraria del dott. Fiorenzo Catalli:
	\n\n\n\n	“Il Mito in tasca”\n\n\n\n	Il volume ci trasporta nell’affa
	scinante mondo della mitologia e della leggenda ma non solo anche della nu
	mismatica. Il libro che verrà presentato è una vera e propria guida “t
	ascabile” dei miti e delle leggende dell’era antica. È un delizioso e
	d utilissimo libro di 156 pagine\, pubblicato dalla Casa Editrice DieLLe\,
	 di Verona\, con ISBN n. 9788899398835\, in formato A5\, la copertina è 4
	+4 su carta lucida da gr. 300 plastificata\, con allestimento in brossura\
	, il suo costo è di € 18\,00. Il giorno della Presentazione del volume\
	, sabato 20 settembre 2025\, avremo a disposizione alcune copie\, i presen
	ti e i Soci del Circolo potranno usufruire di uno sconto considerevole\, a
	l posto di € 18\,00 di copertina potranno comprarne una copia al costo d
	i soli € 13\,00\, fino ad esaurimento scorte. Vi consiglio\, quindi\, pe
	r essere sicuri di trovarne\, di prenotarne una copia fin'ora\, contattand
	o direttamente via mail il Circolo: c.n.romanolaziale@hotmail.com\, sarà 
	data precedenza ai Soci del C.N.R.L. ed alle persone che saranno presenti 
	alla Presentazione. Nel volume troviamo alcuni miti conosciutissimi\, come
	 quello di Enea e Anchise o il mito delle Dodici Fatiche di Ercole\, ed al
	tri meno conosciuti\, come il mito di Erittonio o di Frisso e l’ariete. 
	Ogni leggenda narrata è illustrata da dipinti\, sculture e monete\, dove
	 è rappresentata\, che rendono\n\n	ancora più piacevole la lettura. Il v
	olume è completato dall’Introduzione e dal capitolo iniziale\, Mito e l
	eggenda\, dove viene spiegata anche l’origine delle due parole\, da 41 c
	apitoli\, che raccontano altrettanti miti e leggende e\, in chiusura\, un 
	utilissimo glossario\, che racchiude tutte le denominazioni delle monete i
	llustrate e che rende ancora più semplice ed interessante la lettura\, an
	che per chi è digiuno dell’argomento. È un volume sicuramente da non p
	erdere\, soprattutto per gli appassionati di Storia e di Numismatica. Il d
	ott. Fiorenzo Catalli non ha bisogno di presentazioni ma ne riporto una br
	eve biografia\, a beneficio di tutti noi:\n\n\n\n	\n\n	Si è laureato nel 
	1973 in Lettere\, con Laura Breglia\, presso l'Università degli Studi di
	 Roma La Sapienza. Vincitore del concorso per Funzionario Direttivo nel ru
	olo Archeologi con specializzazione in Numismatica presso il Ministero per
	 i Beni Culturali e Ambientali e assunto in servizio di ruolo presso la So
	printendenza Archeologica di Roma dal 16 agosto 1979 fino al 31 maggio 201
	5\, con sede di servizio in Via di Sant’Apollinare. Tra il 1999 e il 200
	6 ha collaborato con la Soprintendenza per i Beni Archeologici dell’Umbr
	ia\, con la Soprintendenza per i Beni Archeologici del Lazio e con la Sopr
	intendenza per i Beni Archeologici dell’Etruria Meridionale per il risco
	ntro inventariale\, la catalogazione e la valorizzazione delle rispettive 
	collezioni numismatiche. Dal 2007 al 2015 ha ricoperto la carica di Dirett
	ore del Monetiere del Museo Archeologico Nazionale di Firenze della Sopr
	intendenza per i Beni Archeologici della Toscana dove ha effettuando il ri
	scontro inventariale\, la catalogazione\, l’edizione a stampa e on line 
	e la valorizzazione della collezione numismatica\, attraverso la pubblicaz
	ione a stampa e l’allestimento di mostre temporanee. Dal 2015 ne è stat
	o il Direttore Scientifico. Dal giugno 2015 ha collaborato per il riscontr
	o e la schedatura di collezioni numismatiche con il Polo Museale della Tos
	cana con il Museo Archeologico Nazionale di Firenze\, con il Museo Naziona
	le di Arezzo\, con il Museo Etrusco “Guarnacci” di Volterra e con il M
	useo Archeologico di S. Maria della Scala di Siena. Innumerevoli le sue pu
	bblicazioni\, tra articoli e volumi\, e le conferenze effettuate.\n\n
DTSTART:20250920T090000Z
END:VEVENT
END:VCALENDAR
