BEGIN:VCALENDAR
VERSION:2.0
PRODID:-//InvisionCommunity Events 4.7.22//EN
METHOD:PUBLISH
CALSCALE:GREGORIAN
REFRESH-INTERVAL:PT15M
X-PUBLISHED-TTL:PT15M
X-WR-CALNAME:Eventi Commerciali
NAME:Eventi Commerciali
BEGIN:VTIMEZONE
TZID:Europe/London
TZURL:http://tzurl.org/zoneinfo/Europe/London
X-LIC-LOCATION:Europe/London
BEGIN:DAYLIGHT
TZOFFSETFROM:+0000
TZOFFSETTO:+0100
TZNAME:BST
DTSTART:20260329T020000Z
RRULE:FREQ=YEARLY;BYMONTH=3;BYDAY=-1SU
END:DAYLIGHT
BEGIN:STANDARD
TZOFFSETFROM:+0100
TZOFFSETTO:+0000
TZNAME:GMT
DTSTART:20261025T020000Z
RRULE:FREQ=YEARLY;BYMONTH=10;BYDAY=-1SU
END:STANDARD
END:VTIMEZONE
BEGIN:VEVENT
SUMMARY:Pievesestina di Cesena (FC) - C'era una volta: speciale Numi
	smatica
DTSTAMP:20260212T183103Z
SEQUENCE:0
UID:1416-2-6ccd8bfbdc7d7428e7082354d408d14b@www.lamoneta.it
ORGANIZER;CN="FICN":no-reply@lamoneta.it
DESCRIPTION:Anche in questo mese “C’era una volta” accende i rifle
	ttori su francobolli e monete con un salone speciale. Il circolo filatelic
	o-numismatico di Cesena collabora con l’evento offrendo un servizio di v
	alutazione gratuita degli esemplari. In programma anche la mostra “Le ra
	dio comunicazioni in Romagna durante la II Guerra Mondiale”. Appuntamen
	to sabato 18 e 19 ottobre – Padiglioni di Cesena Fiera
DTSTART;VALUE=DATE:20260314
DTEND;VALUE=DATE:20260316
END:VEVENT
END:VCALENDAR
