BEGIN:VCALENDAR
VERSION:2.0
PRODID:-//InvisionCommunity Events 4.7.22//EN
METHOD:PUBLISH
CALSCALE:GREGORIAN
REFRESH-INTERVAL:PT15M
X-PUBLISHED-TTL:PT15M
X-WR-CALNAME:Eventi Misti
NAME:Eventi Misti
BEGIN:VTIMEZONE
TZID:Europe/London
TZURL:http://tzurl.org/zoneinfo/Europe/London
X-LIC-LOCATION:Europe/London
BEGIN:DAYLIGHT
TZOFFSETFROM:+0000
TZOFFSETTO:+0100
TZNAME:BST
DTSTART:20260329T020000Z
RRULE:FREQ=YEARLY;BYMONTH=3;BYDAY=-1SU
END:DAYLIGHT
BEGIN:STANDARD
TZOFFSETFROM:+0100
TZOFFSETTO:+0000
TZNAME:GMT
DTSTART:20261025T020000Z
RRULE:FREQ=YEARLY;BYMONTH=10;BYDAY=-1SU
END:STANDARD
END:VTIMEZONE
BEGIN:VEVENT
SUMMARY:VASTOPHIL 2026
DTSTAMP:20260424T170507Z
SEQUENCE:0
UID:1444-3-6ccd8bfbdc7d7428e7082354d408d14b@www.lamoneta.it
ORGANIZER;CN="elpapy":no-reply@lamoneta.it
DESCRIPTION:\n	Manifestazione Nazionale di Filatelia e Numismatica. 44a 
	edizione. Convegno Commerciale con la presenza di POSTE ITALIANE\, REPUBBL
	ICA DI SAN MARINO e S.M.O.M.\n\n
DTSTART;VALUE=DATE:20260626
DTEND;VALUE=DATE:20260629
END:VEVENT
END:VCALENDAR
