BEGIN:VCALENDAR
VERSION:2.0
PRODID:-//InvisionCommunity Events 4.7.22//EN
METHOD:PUBLISH
CALSCALE:GREGORIAN
REFRESH-INTERVAL:PT15M
X-PUBLISHED-TTL:PT15M
X-WR-CALNAME:Eventi culturali
NAME:Eventi culturali
BEGIN:VTIMEZONE
TZID:Europe/London
TZURL:http://tzurl.org/zoneinfo/Europe/London
X-LIC-LOCATION:Europe/London
BEGIN:DAYLIGHT
TZOFFSETFROM:+0000
TZOFFSETTO:+0100
TZNAME:BST
DTSTART:20060326T020000Z
RRULE:FREQ=YEARLY;BYMONTH=3;BYDAY=-1SU
END:DAYLIGHT
BEGIN:STANDARD
TZOFFSETFROM:+0100
TZOFFSETTO:+0000
TZNAME:GMT
DTSTART:20061029T020000Z
RRULE:FREQ=YEARLY;BYMONTH=10;BYDAY=-1SU
END:STANDARD
END:VTIMEZONE
BEGIN:VEVENT
SUMMARY:CONVEGNO DI TORINO e INFO POINT LAMONETA
DTSTAMP:20060929T220001Z
SEQUENCE:1
UID:149-1-6ccd8bfbdc7d7428e7082354d408d14b@www.lamoneta.it
ORGANIZER;CN="centurioneamico":no-reply@lamoneta.it
DESCRIPTION:\nNella giornata di sabato (tutto il giorno 9.00-18.00) 30 S
	ettembre 2006 ci sarà il 24° Convegno Numismatico di Torino\, presso il 
	\"JOLLY HOTEL\":\nC.so V. Emanuele\, 104 10121 Torino (TO) ITALIA   \nTele
	fono: +39 011 5752 Fax: +39 011 544978 \nE-mail: torino_ambasciatori@jolly
	hotels.it \nCome raggiungerci \nDa Nord AUTOSTRADA:\nDa MILANO A4 - Da AOS
	TA A5: USCITA CENTRO CORSO GIULIO CESARE\nDa Sud AUTOSTRADA:\nDa PIACENZA 
	A21: USCITA CENTRO CORSO UNITA’ D’ITALIA  \nSarà presente anche il no
	stro PUNTO INFORMATIVO  con la possibilità di ritirare il cartellino nomi
	nativo di lamoneta.it e\, su ordinazione un misuratore di assi pronto all'
	uso.\nVi aspetto numerosi per uno splendido Meeting lamonetiano  :) \nPer 
	ulteriori informazioni potete contattarmi:Centurioneamico!\n
DTSTART:20060929T020000Z
END:VEVENT
END:VCALENDAR
