BEGIN:VCALENDAR
VERSION:2.0
PRODID:-//InvisionCommunity Events 4.7.22//EN
METHOD:PUBLISH
CALSCALE:GREGORIAN
REFRESH-INTERVAL:PT15M
X-PUBLISHED-TTL:PT15M
X-WR-CALNAME:Eventi culturali
NAME:Eventi culturali
BEGIN:VTIMEZONE
TZID:Europe/London
TZURL:http://tzurl.org/zoneinfo/Europe/London
X-LIC-LOCATION:Europe/London
BEGIN:DAYLIGHT
TZOFFSETFROM:+0000
TZOFFSETTO:+0100
TZNAME:BST
DTSTART:20070325T020000Z
RRULE:FREQ=YEARLY;BYMONTH=3;BYDAY=-1SU
END:DAYLIGHT
BEGIN:STANDARD
TZOFFSETFROM:+0100
TZOFFSETTO:+0000
TZNAME:GMT
DTSTART:20071028T020000Z
RRULE:FREQ=YEARLY;BYMONTH=10;BYDAY=-1SU
END:STANDARD
END:VTIMEZONE
BEGIN:VEVENT
SUMMARY:4° ÆTERNUM - ROMA - Mostra Mercato
DTSTAMP:20071011T220001Z
SEQUENCE:1
UID:185-1-6ccd8bfbdc7d7428e7082354d408d14b@www.lamoneta.it
ORGANIZER;CN="sistematicasrl":no-reply@lamoneta.it
DESCRIPTION:\nMostra Mercato di Filatelia Numismatica Cartoline Telecart
	e\npresso SALA ESPERANZA\n- ERGIFE PALACE HOTEL\n- VIA AURELIA 619\norario
	: \nvenerdì 15\,00-19\,00\nsabato  09\,00-17\,00\nAUTOBUS ATAC 246\nMETRO
	 LINEA B direzione BATTISTINI fermata CORNELIA\nulteriori informazioni:\nS
	ISTEMATICA srl\, tel. 0573.533087\, 337.676391\nwww.sss-sistematica.it\nin
	fo@sss-sistematica.it\n
DTSTART:20071011T020000Z
DTEND:20071013T135959Z
END:VEVENT
END:VCALENDAR
