BEGIN:VCALENDAR
VERSION:2.0
PRODID:-//InvisionCommunity Events 4.7.22//EN
METHOD:PUBLISH
CALSCALE:GREGORIAN
REFRESH-INTERVAL:PT15M
X-PUBLISHED-TTL:PT15M
X-WR-CALNAME:Eventi culturali
NAME:Eventi culturali
BEGIN:VTIMEZONE
TZID:Europe/London
TZURL:http://tzurl.org/zoneinfo/Europe/London
X-LIC-LOCATION:Europe/London
BEGIN:DAYLIGHT
TZOFFSETFROM:+0000
TZOFFSETTO:+0100
TZNAME:BST
DTSTART:20070325T020000Z
RRULE:FREQ=YEARLY;BYMONTH=3;BYDAY=-1SU
END:DAYLIGHT
BEGIN:STANDARD
TZOFFSETFROM:+0100
TZOFFSETTO:+0000
TZNAME:GMT
DTSTART:20071028T020000Z
RRULE:FREQ=YEARLY;BYMONTH=10;BYDAY=-1SU
END:STANDARD
END:VTIMEZONE
BEGIN:VEVENT
SUMMARY:Museo Archeologico di Napoli
DTSTAMP:20070317T230001Z
SEQUENCE:1
UID:215-1-6ccd8bfbdc7d7428e7082354d408d14b@www.lamoneta.it
ORGANIZER;CN="danielealberti":no-reply@lamoneta.it
DESCRIPTION:\nGiornata di incontri numismatici al museo archeologico di 
	Napoli con visita alla sezione numismatica.\nRitrovo ore 09\,00 davanti al
	 museo\, le sale numismatiche verranno apertte per gli utenti del forum\np
	er informazioni contattare danielealberti\n
DTSTART:20070317T010000Z
END:VEVENT
END:VCALENDAR
