BEGIN:VCALENDAR
VERSION:2.0
PRODID:-//InvisionCommunity Events 4.7.22//EN
METHOD:PUBLISH
CALSCALE:GREGORIAN
REFRESH-INTERVAL:PT15M
X-PUBLISHED-TTL:PT15M
X-WR-CALNAME:Eventi culturali
NAME:Eventi culturali
BEGIN:VTIMEZONE
TZID:Europe/London
TZURL:http://tzurl.org/zoneinfo/Europe/London
X-LIC-LOCATION:Europe/London
BEGIN:DAYLIGHT
TZOFFSETFROM:+0000
TZOFFSETTO:+0100
TZNAME:BST
DTSTART:20070325T020000Z
RRULE:FREQ=YEARLY;BYMONTH=3;BYDAY=-1SU
END:DAYLIGHT
BEGIN:STANDARD
TZOFFSETFROM:+0100
TZOFFSETTO:+0000
TZNAME:GMT
DTSTART:20071028T020000Z
RRULE:FREQ=YEARLY;BYMONTH=10;BYDAY=-1SU
END:STANDARD
END:VTIMEZONE
BEGIN:VEVENT
SUMMARY:Mercatino Cava dei Tirreni (SA)
DTSTAMP:20071207T230001Z
SEQUENCE:1
UID:244-1-6ccd8bfbdc7d7428e7082354d408d14b@www.lamoneta.it
ORGANIZER;CN="iacchetti":no-reply@lamoneta.it
DESCRIPTION:\nMERCATINO DI PICCOLO ANTIQUARIATO E COLLEZIONISMO D'EPOCA\
	nPresso l'ex mercato coperto in Viale Crispi nei pressi del Palazzo di Cit
	tà di\nCAVA DEI TIRRENI (SA)\n
DTSTART:20071207T010000Z
DTEND:20071209T125959Z
END:VEVENT
END:VCALENDAR
