BEGIN:VCALENDAR
VERSION:2.0
PRODID:-//InvisionCommunity Events 4.7.22//EN
METHOD:PUBLISH
CALSCALE:GREGORIAN
REFRESH-INTERVAL:PT15M
X-PUBLISHED-TTL:PT15M
X-WR-CALNAME:Eventi culturali
NAME:Eventi culturali
BEGIN:VTIMEZONE
TZID:Europe/London
TZURL:http://tzurl.org/zoneinfo/Europe/London
X-LIC-LOCATION:Europe/London
BEGIN:DAYLIGHT
TZOFFSETFROM:+0000
TZOFFSETTO:+0100
TZNAME:BST
DTSTART:20080330T020000Z
RRULE:FREQ=YEARLY;BYMONTH=3;BYDAY=-1SU
END:DAYLIGHT
BEGIN:STANDARD
TZOFFSETFROM:+0100
TZOFFSETTO:+0000
TZNAME:GMT
DTSTART:20081026T020000Z
RRULE:FREQ=YEARLY;BYMONTH=10;BYDAY=-1SU
END:STANDARD
END:VTIMEZONE
BEGIN:VEVENT
SUMMARY:Mostra mercato Ciampino (RM)
DTSTAMP:20080221T230001Z
SEQUENCE:1
UID:257-1-6ccd8bfbdc7d7428e7082354d408d14b@www.lamoneta.it
ORGANIZER;CN="max65":no-reply@lamoneta.it
DESCRIPTION:\nMostra Mercato\nData inizio: 22-02-2008\nData fine: 24-02-
	2008\nLocalita': Roma \nLuogo di svolgimento: HOTEL ALTA QUOTA - VIA DI CI
	AMPINO\,70\nTipo di manifestazione: Mostra mercato\nArea di interesse:\nFi
	latelia\nNumismatica\nORARI:22 VENERDI' 16.00-19.00\; 23 SABATO 09.00-19.0
	0\; 24 DOMENICA 09.00-13.00\n
DTSTART:20080221T010000Z
DTEND:20080224T125959Z
END:VEVENT
END:VCALENDAR
