BEGIN:VCALENDAR
VERSION:2.0
PRODID:-//InvisionCommunity Events 4.7.22//EN
METHOD:PUBLISH
CALSCALE:GREGORIAN
REFRESH-INTERVAL:PT15M
X-PUBLISHED-TTL:PT15M
X-WR-CALNAME:Eventi culturali
NAME:Eventi culturali
BEGIN:VTIMEZONE
TZID:Europe/London
TZURL:http://tzurl.org/zoneinfo/Europe/London
X-LIC-LOCATION:Europe/London
BEGIN:DAYLIGHT
TZOFFSETFROM:+0000
TZOFFSETTO:+0100
TZNAME:BST
DTSTART:20080330T020000Z
RRULE:FREQ=YEARLY;BYMONTH=3;BYDAY=-1SU
END:DAYLIGHT
BEGIN:STANDARD
TZOFFSETFROM:+0100
TZOFFSETTO:+0000
TZNAME:GMT
DTSTART:20081026T020000Z
RRULE:FREQ=YEARLY;BYMONTH=10;BYDAY=-1SU
END:STANDARD
END:VTIMEZONE
BEGIN:VEVENT
SUMMARY:25° Convegno Castellammare di Stabia
DTSTAMP:20080314T230001Z
SEQUENCE:1
UID:261-1-6ccd8bfbdc7d7428e7082354d408d14b@www.lamoneta.it
ORGANIZER;CN="tempolibero":no-reply@lamoneta.it
DESCRIPTION:\nIl Circolo Filatelico&amp\;Numismatico “Club Tempo Lib
	ero” di  Castellammare di Stabia organizza il 25° Convegno Commerciale 
	di Numismatica \, Filatelia \, Cartamoneta\, Cartoline\, Telecarte e ogget
	tistica varie nei giorni sabato 15 Marzo 2008 dalle ore 9:00 alle 19:00 e 
	domenica 16 Marzo 2008 dalle ore 9:00 alle 13:00.\nSono invitati a parteci
	pare gli amanti del genere e non.\nIngresso Libero.\nPer ulteriori informa
	zioni visitate il sito : http://xoomer.virgilio.it/numismaticatempolibero\
	n
DTSTART:20080314T010000Z
DTEND:20080316T125959Z
END:VEVENT
END:VCALENDAR
