BEGIN:VCALENDAR
VERSION:2.0
PRODID:-//InvisionCommunity Events 4.7.22//EN
METHOD:PUBLISH
CALSCALE:GREGORIAN
REFRESH-INTERVAL:PT15M
X-PUBLISHED-TTL:PT15M
X-WR-CALNAME:Eventi culturali
NAME:Eventi culturali
BEGIN:VTIMEZONE
TZID:Europe/London
TZURL:http://tzurl.org/zoneinfo/Europe/London
X-LIC-LOCATION:Europe/London
BEGIN:DAYLIGHT
TZOFFSETFROM:+0000
TZOFFSETTO:+0100
TZNAME:BST
DTSTART:20090329T020000Z
RRULE:FREQ=YEARLY;BYMONTH=3;BYDAY=-1SU
END:DAYLIGHT
BEGIN:STANDARD
TZOFFSETFROM:+0100
TZOFFSETTO:+0000
TZNAME:GMT
DTSTART:20091025T020000Z
RRULE:FREQ=YEARLY;BYMONTH=10;BYDAY=-1SU
END:STANDARD
END:VTIMEZONE
BEGIN:VEVENT
SUMMARY:Serata in chat: REGNO V.E.III tra Storia e Monete
DTSTAMP:20090527T172413Z
SEQUENCE:1
UID:351-1-6ccd8bfbdc7d7428e7082354d408d14b@www.lamoneta.it
ORGANIZER;CN="Utente.Anonimo3245":no-reply@lamoneta.it
DESCRIPTION:\n:rolleyes: :rolleyes:  Serata in chat:  REGNO\nBuongiorno 
	a tutti\, sono felicissima di invitarvi per Giovedi 28 MAGGIO alle 21\,30 
	in chat per l'esposizione di:\nNiko su:\nVITTORIO EMANUELE III TRA STORIA 
	E MONETE - NEL PERIODO STORICO  1900-1922\nVi aspetto numerosissimi\, al s
	olito. Grazie Giò  :D :D\nLa serata è sospesa per impegni improvvisi del
	 relatore\, la nuova data è da stabilire\, scusate\, ci dispiace molto.\n
DTSTART:20090604T020000Z
END:VEVENT
END:VCALENDAR
