BEGIN:VCALENDAR
VERSION:2.0
PRODID:-//InvisionCommunity Events 4.7.22//EN
METHOD:PUBLISH
CALSCALE:GREGORIAN
REFRESH-INTERVAL:PT15M
X-PUBLISHED-TTL:PT15M
X-WR-CALNAME:Eventi culturali
NAME:Eventi culturali
BEGIN:VTIMEZONE
TZID:Europe/London
TZURL:http://tzurl.org/zoneinfo/Europe/London
X-LIC-LOCATION:Europe/London
BEGIN:DAYLIGHT
TZOFFSETFROM:+0000
TZOFFSETTO:+0100
TZNAME:BST
DTSTART:20090329T020000Z
RRULE:FREQ=YEARLY;BYMONTH=3;BYDAY=-1SU
END:DAYLIGHT
BEGIN:STANDARD
TZOFFSETFROM:+0100
TZOFFSETTO:+0000
TZNAME:GMT
DTSTART:20091025T020000Z
RRULE:FREQ=YEARLY;BYMONTH=10;BYDAY=-1SU
END:STANDARD
END:VTIMEZONE
BEGIN:VEVENT
SUMMARY:CASTELLAMMARE di STABIA 24-25 OTTOBRE 2009
DTSTAMP:20091014T161314Z
SEQUENCE:1
UID:401-1-6ccd8bfbdc7d7428e7082354d408d14b@www.lamoneta.it
ORGANIZER;CN="mirkoct":no-reply@lamoneta.it
DESCRIPTION:\nCASTELLAMMARE di STABIA 24-25 OTTOBRE 2009 \nnei giorni 24
	 e 25 ottobre si terrà il convegno numismatico a Castellammare di Stabia\
	, presso la palestra comunale\n
DTSTART:20091024T020000Z
DTEND:20091026T005959Z
END:VEVENT
END:VCALENDAR
