BEGIN:VCALENDAR
VERSION:2.0
PRODID:-//InvisionCommunity Events 4.7.22//EN
METHOD:PUBLISH
CALSCALE:GREGORIAN
REFRESH-INTERVAL:PT15M
X-PUBLISHED-TTL:PT15M
X-WR-CALNAME:Eventi culturali
NAME:Eventi culturali
BEGIN:VTIMEZONE
TZID:Europe/London
TZURL:http://tzurl.org/zoneinfo/Europe/London
X-LIC-LOCATION:Europe/London
BEGIN:DAYLIGHT
TZOFFSETFROM:+0000
TZOFFSETTO:+0100
TZNAME:BST
DTSTART:20120325T020000Z
RRULE:FREQ=YEARLY;BYMONTH=3;BYDAY=-1SU
END:DAYLIGHT
BEGIN:STANDARD
TZOFFSETFROM:+0100
TZOFFSETTO:+0000
TZNAME:GMT
DTSTART:20121028T020000Z
RRULE:FREQ=YEARLY;BYMONTH=10;BYDAY=-1SU
END:STANDARD
END:VTIMEZONE
BEGIN:VEVENT
SUMMARY:Convegno NUMISMATICO - Fano (PU)
DTSTAMP:20110611T173228Z
SEQUENCE:1
UID:487-1-6ccd8bfbdc7d7428e7082354d408d14b@www.lamoneta.it
ORGANIZER;CN="rcamil":no-reply@lamoneta.it
DESCRIPTION:\nFano\, in via Vitruvio 9 - presso il chiostro di S.Agostin
	o.\nIngresso al pubblico:\nsabato 30 giugno 2012 : dalle 9 alle 19\nEscusi
	vamente per gli Operatori\, il  convegno è aperto anche venerdì 29 giugn
	o 2012 con orario dalle 14.30 fino alle 19.\nE' assicurata la  vigilanza n
	ella notte tra venerdì e sabato.\nPer informazioni o iscrizioni:\nVilliam
	 Ciavaglia (PRESIDENTE CIRCOLO CASTELLANI - Fano)\nvilliam.ciavaglia@gmail
	.com\n
DTSTART:20120630T020000Z
END:VEVENT
END:VCALENDAR
