BEGIN:VCALENDAR
VERSION:2.0
PRODID:-//InvisionCommunity Events 4.7.22//EN
METHOD:PUBLISH
CALSCALE:GREGORIAN
REFRESH-INTERVAL:PT15M
X-PUBLISHED-TTL:PT15M
X-WR-CALNAME:Eventi culturali
NAME:Eventi culturali
BEGIN:VTIMEZONE
TZID:Europe/London
TZURL:http://tzurl.org/zoneinfo/Europe/London
X-LIC-LOCATION:Europe/London
BEGIN:DAYLIGHT
TZOFFSETFROM:+0000
TZOFFSETTO:+0100
TZNAME:BST
DTSTART:20110327T020000Z
RRULE:FREQ=YEARLY;BYMONTH=3;BYDAY=-1SU
END:DAYLIGHT
BEGIN:STANDARD
TZOFFSETFROM:+0100
TZOFFSETTO:+0000
TZNAME:GMT
DTSTART:20111030T020000Z
RRULE:FREQ=YEARLY;BYMONTH=10;BYDAY=-1SU
END:STANDARD
END:VTIMEZONE
BEGIN:VEVENT
SUMMARY:32° Convegno di Castellammare di Stabia
DTSTAMP:20111001T090630Z
SEQUENCE:1
UID:505-1-6ccd8bfbdc7d7428e7082354d408d14b@www.lamoneta.it
ORGANIZER;CN="tempolibero":no-reply@lamoneta.it
DESCRIPTION:\n\n\nIl Circolo Filatelico &amp\; Numismatico “Club Del T
	empo Libero”  di Castellammare di Stabia organizza\nil 32° Convegno di 
	Numismatica\, Filatelia\, Cartamoneta\, Cartoline\, Telecarte e Oggettisti
	ca varie\,\na partire da Sabato 5 Novembre 2011\,  dalle ore 9:00 alle 19:
	00 (orario continuato)\,\nfino a Domenica 6 Novembre 2011\,  dalle ore 9:0
	0 alle 13:00\, all'interno dell'Hotel Parco\,\nsito nella Strada Statale 3
	66 per Agerola-Amalfi\, Gragnano (NAPOLI)\nSono invitati a partecipare gli
	 amanti del genere e non.\nIngresso Libero\nPer ulteriori informazioni vis
	itate il sito: \"Club Del Tempo Libero\"\n\n\n\n\n\nCliccare sull'immagine
	 per ingrandire.\n\n\n\n
DTSTART:20111106T090000Z
END:VEVENT
END:VCALENDAR
