BEGIN:VCALENDAR
VERSION:2.0
PRODID:-//InvisionCommunity Events 4.7.22//EN
METHOD:PUBLISH
CALSCALE:GREGORIAN
REFRESH-INTERVAL:PT15M
X-PUBLISHED-TTL:PT15M
X-WR-CALNAME:Eventi culturali
NAME:Eventi culturali
BEGIN:VTIMEZONE
TZID:Europe/London
TZURL:http://tzurl.org/zoneinfo/Europe/London
X-LIC-LOCATION:Europe/London
BEGIN:DAYLIGHT
TZOFFSETFROM:+0000
TZOFFSETTO:+0100
TZNAME:BST
DTSTART:20120325T020000Z
RRULE:FREQ=YEARLY;BYMONTH=3;BYDAY=-1SU
END:DAYLIGHT
BEGIN:STANDARD
TZOFFSETFROM:+0100
TZOFFSETTO:+0000
TZNAME:GMT
DTSTART:20121028T020000Z
RRULE:FREQ=YEARLY;BYMONTH=10;BYDAY=-1SU
END:STANDARD
END:VTIMEZONE
BEGIN:VEVENT
SUMMARY:33° Convegno di Castellammare di Stabia
DTSTAMP:20111128T095002Z
SEQUENCE:1
UID:513-1-6ccd8bfbdc7d7428e7082354d408d14b@www.lamoneta.it
ORGANIZER;CN="tempolibero":no-reply@lamoneta.it
DESCRIPTION:\n\n\nIl Circolo Filatelico &amp\; Numismatico \"Club Del Te
	mpo Libero\"  di Castellammare di Stabia organizza\nil 33° Convegno di Nu
	mismatica\, Filatelia\, Cartamoneta\, Cartoline\, Telecarte e Oggettistica
	 varie\,\na partire da Sabato 24 Marzo 2012\,  dalle ore 9:00 alle 19:00 (
	orario continuato)\,\nfino a Domenica 25 Marzo 2012\,  dalle ore 9:00 alle
	 13:00\, all'interno dell'Hotel Parco\,\nsito nella Strada Statale 366 per
	 Agerola-Amalfi\, Gragnano (NAPOLI)\nSono invitati a partecipare gli amant
	i del genere e non.\nIngresso Libero\n \n\n\n\n\n\n\nCliccare sull'immagin
	e per ingrandire.\n\n\n\nPer ulteriori informazioni visitate il sito: \"Cl
	ub Del Tempo Libero\"\n
DTSTART:20120324T010000Z
DTEND:20120325T015900Z
END:VEVENT
END:VCALENDAR
