BEGIN:VCALENDAR
VERSION:2.0
PRODID:-//InvisionCommunity Events 4.7.22//EN
METHOD:PUBLISH
CALSCALE:GREGORIAN
REFRESH-INTERVAL:PT15M
X-PUBLISHED-TTL:PT15M
X-WR-CALNAME:Eventi culturali
NAME:Eventi culturali
BEGIN:VTIMEZONE
TZID:Europe/London
TZURL:http://tzurl.org/zoneinfo/Europe/London
X-LIC-LOCATION:Europe/London
BEGIN:DAYLIGHT
TZOFFSETFROM:+0000
TZOFFSETTO:+0100
TZNAME:BST
DTSTART:20110327T020000Z
RRULE:FREQ=YEARLY;BYMONTH=3;BYDAY=-1SU
END:DAYLIGHT
BEGIN:STANDARD
TZOFFSETFROM:+0100
TZOFFSETTO:+0000
TZNAME:GMT
DTSTART:20111030T020000Z
RRULE:FREQ=YEARLY;BYMONTH=10;BYDAY=-1SU
END:STANDARD
END:VTIMEZONE
BEGIN:VEVENT
SUMMARY:Raduno Natalizio/Numismatico dei Ducati
DTSTAMP:20111212T212151Z
SEQUENCE:0
UID:517-1-6ccd8bfbdc7d7428e7082354d408d14b@www.lamoneta.it
ORGANIZER;CN="incuso":no-reply@lamoneta.it
DESCRIPTION:\nDomenica 18 dicembre 2011 torna il raduno natalizio dei Du
	cati presso il Green Park\, piazza Pallini 2A a Sorbolo Levante (RE).\nL'i
	ngresso come sempre è libero\, ed alla fine del raduno si svolgerà per c
	hi si vuole fermare il consueto pranzo numismatico.\nData l'occasione\, i 
	soci offriranno panettone e spumante a tutti i visitatori!\nTutte le infor
	mazioni sul sito dell'associazione:\nhttp://numismatica.deiducati.altervis
	ta.org/raduni.php\n
DTSTART;VALUE=DATE:20111218
END:VEVENT
END:VCALENDAR
