BEGIN:VCALENDAR
VERSION:2.0
PRODID:-//InvisionCommunity Events 4.7.22//EN
METHOD:PUBLISH
CALSCALE:GREGORIAN
REFRESH-INTERVAL:PT15M
X-PUBLISHED-TTL:PT15M
X-WR-CALNAME:Eventi culturali
NAME:Eventi culturali
BEGIN:VTIMEZONE
TZID:Europe/London
TZURL:http://tzurl.org/zoneinfo/Europe/London
X-LIC-LOCATION:Europe/London
BEGIN:DAYLIGHT
TZOFFSETFROM:+0000
TZOFFSETTO:+0100
TZNAME:BST
DTSTART:20120325T020000Z
RRULE:FREQ=YEARLY;BYMONTH=3;BYDAY=-1SU
END:DAYLIGHT
BEGIN:STANDARD
TZOFFSETFROM:+0100
TZOFFSETTO:+0000
TZNAME:GMT
DTSTART:20121028T020000Z
RRULE:FREQ=YEARLY;BYMONTH=10;BYDAY=-1SU
END:STANDARD
END:VTIMEZONE
BEGIN:VEVENT
SUMMARY:Festeggiamo il nuovo anno online
DTSTAMP:20111231T140510Z
SEQUENCE:2
UID:529-1-6ccd8bfbdc7d7428e7082354d408d14b@www.lamoneta.it
ORGANIZER;CN="Reficul":no-reply@lamoneta.it
DESCRIPTION:\n\nFesteggiamo il 2012 online!!! \n\n\n\n\ntutti collegati 
	il 03 / 2012 alle 22:00 per gli auguri online!\n\n\n\n\n
DTSTART:20120103T210000Z
ATTENDEE;CN="Reficul";CUTYPE=INDIVIDUAL;PARTSTAT=ACCEPTED:no
	-reply@lamoneta.it
ATTENDEE;CN="Mirko8710";CUTYPE=INDIVIDUAL;PARTSTAT=ACCEPTED:
	no-reply@lamoneta.it
ATTENDEE;CN="Rapax";CUTYPE=INDIVIDUAL;PARTSTAT=ACCEPTED:no-r
	eply@lamoneta.it
ATTENDEE;CN="adolfos";CUTYPE=INDIVIDUAL;PARTSTAT=ACCEPTED:no
	-reply@lamoneta.it
ATTENDEE;CN="tartachiara";CUTYPE=INDIVIDUAL;PARTSTAT=ACCEPTE
	D:no-reply@lamoneta.it
ATTENDEE;CN="incuso";CUTYPE=INDIVIDUAL;PARTSTAT=ACCEPTED:no-
	reply@lamoneta.it
ATTENDEE;CN="collezionistabari";CUTYPE=INDIVIDUAL;PARTSTAT=A
	CCEPTED:no-reply@lamoneta.it
ATTENDEE;CN="Diabolik73";CUTYPE=INDIVIDUAL;PARTSTAT=ACCEPTED
	:no-reply@lamoneta.it
ATTENDEE;CN="sagida";CUTYPE=INDIVIDUAL;PARTSTAT=ACCEPTED:no-
	reply@lamoneta.it
ATTENDEE;CN="fedafa";CUTYPE=INDIVIDUAL;PARTSTAT=ACCEPTED:no-
	reply@lamoneta.it
ATTENDEE;CN="417sonia";CUTYPE=INDIVIDUAL;PARTSTAT=ACCEPTED:n
	o-reply@lamoneta.it
ATTENDEE;CN="luke_idk";CUTYPE=INDIVIDUAL;PARTSTAT=ACCEPTED:n
	o-reply@lamoneta.it
ATTENDEE;CN="Mirone";CUTYPE=INDIVIDUAL;PARTSTAT=ACCEPTED:no-
	reply@lamoneta.it
ATTENDEE;CN="medusa";CUTYPE=INDIVIDUAL;PARTSTAT=ACCEPTED:no-
	reply@lamoneta.it
ATTENDEE;CN="niagolino";CUTYPE=INDIVIDUAL;PARTSTAT=ACCEPTED:
	no-reply@lamoneta.it
ATTENDEE;CN="Utente.Anonimo3245";CUTYPE=INDIVIDUAL;PARTSTAT=
	ACCEPTED:no-reply@lamoneta.it
ATTENDEE;CN="MASSIMALE";CUTYPE=INDIVIDUAL;PARTSTAT=ACCEPTED:
	no-reply@lamoneta.it
ATTENDEE;CN="Euripe";CUTYPE=INDIVIDUAL;PARTSTAT=ACCEPTED:no-
	reply@lamoneta.it
END:VEVENT
END:VCALENDAR
