BEGIN:VCALENDAR
VERSION:2.0
PRODID:-//InvisionCommunity Events 4.7.22//EN
METHOD:PUBLISH
CALSCALE:GREGORIAN
REFRESH-INTERVAL:PT15M
X-PUBLISHED-TTL:PT15M
X-WR-CALNAME:Eventi culturali
NAME:Eventi culturali
BEGIN:VTIMEZONE
TZID:Europe/London
TZURL:http://tzurl.org/zoneinfo/Europe/London
X-LIC-LOCATION:Europe/London
BEGIN:DAYLIGHT
TZOFFSETFROM:+0000
TZOFFSETTO:+0100
TZNAME:BST
DTSTART:20120325T020000Z
RRULE:FREQ=YEARLY;BYMONTH=3;BYDAY=-1SU
END:DAYLIGHT
BEGIN:STANDARD
TZOFFSETFROM:+0100
TZOFFSETTO:+0000
TZNAME:GMT
DTSTART:20121028T020000Z
RRULE:FREQ=YEARLY;BYMONTH=10;BYDAY=-1SU
END:STANDARD
END:VTIMEZONE
BEGIN:VEVENT
SUMMARY:Borsa-Scambio (Catania)
DTSTAMP:20120105T205913Z
SEQUENCE:1
UID:532-1-6ccd8bfbdc7d7428e7082354d408d14b@www.lamoneta.it
ORGANIZER;CN="tempolibero":no-reply@lamoneta.it
DESCRIPTION:\n\nBorsa-Scambio\n\n\n\nFilatelia - Cartofilia - Numismatic
	a\n\n\n\nPresso l'Hotel Nettuno\, in via Ruggero di Lauria n°121-123 (Lun
	gomare Ognina) Catania\n\n\n\nSabato 28 Gennaio ore 9:00 - 19:00\n\n\n\nDo
	menica 29 Gennaio ore 9:00 - 13:00\n\n\n\n- Ingresso Libero -\n\n\n\nOrgan
	izzazione:  Anet - Associazione Numismatica Etnea\n\n\n\nPer Info:  +39 34
	8 57 98 023 - 203 383 (Ore pasti)\n\n\n
DTSTART:20120128T080000Z
DTEND:20120129T120000Z
END:VEVENT
END:VCALENDAR
