BEGIN:VCALENDAR
VERSION:2.0
PRODID:-//InvisionCommunity Events 4.7.22//EN
METHOD:PUBLISH
CALSCALE:GREGORIAN
REFRESH-INTERVAL:PT15M
X-PUBLISHED-TTL:PT15M
X-WR-CALNAME:Eventi culturali
NAME:Eventi culturali
BEGIN:VTIMEZONE
TZID:Europe/London
TZURL:http://tzurl.org/zoneinfo/Europe/London
X-LIC-LOCATION:Europe/London
BEGIN:DAYLIGHT
TZOFFSETFROM:+0000
TZOFFSETTO:+0100
TZNAME:BST
DTSTART:20120325T020000Z
RRULE:FREQ=YEARLY;BYMONTH=3;BYDAY=-1SU
END:DAYLIGHT
BEGIN:STANDARD
TZOFFSETFROM:+0100
TZOFFSETTO:+0000
TZNAME:GMT
DTSTART:20121028T020000Z
RRULE:FREQ=YEARLY;BYMONTH=10;BYDAY=-1SU
END:STANDARD
END:VTIMEZONE
BEGIN:VEVENT
SUMMARY:AREZZO-FIL Convegno filatelico-numismatico
DTSTAMP:20120205T174836Z
SEQUENCE:1
UID:536-1-6ccd8bfbdc7d7428e7082354d408d14b@www.lamoneta.it
ORGANIZER;CN="bombatio":no-reply@lamoneta.it
DESCRIPTION:\nAREZZO-FIL \nConvegno filatelico-numismatico\nOrganizzazio
	ne: Arezzo Fiere e Congressi in collaborazione con il Circolo Filatelico \
	"M.Buonarroti\" di Arezzo\n19-22 Aprile 2012\ntel. 0575-9361\nhttp://www.a
	rezzofiere.it/convegno/\n
DTSTART;VALUE=DATE:20120420
DTEND;VALUE=DATE:20120423
END:VEVENT
END:VCALENDAR
