BEGIN:VCALENDAR
VERSION:2.0
PRODID:-//InvisionCommunity Events 4.7.22//EN
METHOD:PUBLISH
CALSCALE:GREGORIAN
REFRESH-INTERVAL:PT15M
X-PUBLISHED-TTL:PT15M
X-WR-CALNAME:Eventi culturali
NAME:Eventi culturali
BEGIN:VTIMEZONE
TZID:Europe/London
TZURL:http://tzurl.org/zoneinfo/Europe/London
X-LIC-LOCATION:Europe/London
BEGIN:DAYLIGHT
TZOFFSETFROM:+0000
TZOFFSETTO:+0100
TZNAME:BST
DTSTART:20120325T020000Z
RRULE:FREQ=YEARLY;BYMONTH=3;BYDAY=-1SU
END:DAYLIGHT
BEGIN:STANDARD
TZOFFSETFROM:+0100
TZOFFSETTO:+0000
TZNAME:GMT
DTSTART:20121028T020000Z
RRULE:FREQ=YEARLY;BYMONTH=10;BYDAY=-1SU
END:STANDARD
END:VTIMEZONE
BEGIN:VEVENT
SUMMARY:Giornata del Grosso
DTSTAMP:20120206T223909Z
SEQUENCE:2
UID:537-1-6ccd8bfbdc7d7428e7082354d408d14b@www.lamoneta.it
ORGANIZER;CN="Rapax":no-reply@lamoneta.it
DESCRIPTION:\n\n\nMilano\nGiornata del Grosso\nhttp://www.lamoneta....at
	a-del-grosso/\nPrima Parte \n\n\n\n\n\n(in concomitanza con l'assemblea an
	nuale della Società Numismatica Italiana)\nSala Trivulziana del Castello 
	Sforzesco\nInizio ore 11:00 circa\n- Prof. Andrea Saccocci - L'origine e l
	a natura della monetazione grossa\n\n\n\n\n- Discussione sull'origine dell
	a monetazione grossa\n\n\n\n\nPausa pranzo\nSeconda Parte\nBiblioteca SNI 
	- Via Orti\, 3 (zona Porta Romana)\n- Dr. Giuseppe Girola - Breve introduz
	ione alla Biblioteca della Società Numismatica Italiana \n\n\n\n\n- Prose
	cuzione della discussione sull'origine della monetazione grossa\n\n\n
DTSTART;VALUE=DATE:20120331
ATTENDEE;CN="Rapax";CUTYPE=INDIVIDUAL;PARTSTAT=ACCEPTED:no-r
	eply@lamoneta.it
ATTENDEE;CN="dabbene";CUTYPE=INDIVIDUAL;PARTSTAT=ACCEPTED:no
	-reply@lamoneta.it
ATTENDEE;CN="eligio";CUTYPE=INDIVIDUAL;PARTSTAT=ACCEPTED:no-
	reply@lamoneta.it
ATTENDEE;CN="dizzeta";CUTYPE=INDIVIDUAL;PARTSTAT=ACCEPTED:no
	-reply@lamoneta.it
ATTENDEE;CN="417sonia";CUTYPE=INDIVIDUAL;PARTSTAT=ACCEPTED:n
	o-reply@lamoneta.it
ATTENDEE;CN="eracle62";CUTYPE=INDIVIDUAL;PARTSTAT=ACCEPTED:n
	o-reply@lamoneta.it
ATTENDEE;CN="giancarlone";CUTYPE=INDIVIDUAL;PARTSTAT=ACCEPTE
	D:no-reply@lamoneta.it
ATTENDEE;CN="gpbasetti";CUTYPE=INDIVIDUAL;PARTSTAT=ACCEPTED:
	no-reply@lamoneta.it
ATTENDEE;CN="scacchi";CUTYPE=INDIVIDUAL;PARTSTAT=ACCEPTED:no
	-reply@lamoneta.it
ATTENDEE;CN="alteras";CUTYPE=INDIVIDUAL;PARTSTAT=ACCEPTED:no
	-reply@lamoneta.it
END:VEVENT
END:VCALENDAR
