BEGIN:VCALENDAR
VERSION:2.0
PRODID:-//InvisionCommunity Events 4.7.22//EN
METHOD:PUBLISH
CALSCALE:GREGORIAN
REFRESH-INTERVAL:PT15M
X-PUBLISHED-TTL:PT15M
X-WR-CALNAME:Eventi culturali
NAME:Eventi culturali
BEGIN:VTIMEZONE
TZID:Europe/London
TZURL:http://tzurl.org/zoneinfo/Europe/London
X-LIC-LOCATION:Europe/London
BEGIN:DAYLIGHT
TZOFFSETFROM:+0000
TZOFFSETTO:+0100
TZNAME:BST
DTSTART:20120325T020000Z
RRULE:FREQ=YEARLY;BYMONTH=3;BYDAY=-1SU
END:DAYLIGHT
BEGIN:STANDARD
TZOFFSETFROM:+0100
TZOFFSETTO:+0000
TZNAME:GMT
DTSTART:20121028T020000Z
RRULE:FREQ=YEARLY;BYMONTH=10;BYDAY=-1SU
END:STANDARD
END:VTIMEZONE
BEGIN:VEVENT
SUMMARY:Presentazione Volume La Monetazione della Daunia.
DTSTAMP:20120207T124950Z
SEQUENCE:0
UID:538-1-6ccd8bfbdc7d7428e7082354d408d14b@www.lamoneta.it
ORGANIZER;CN="MAP":no-reply@lamoneta.it
DESCRIPTION:\nVenerdì 9 Marzo 2012\, alle ore 18\, presso la Sala Rosa 
	del Vento della Fondazione Banca del Monte\, sita in Via Arpi 152 a Foggia
	\,\navverrà la Presentazione del libro del dottor Vincenzo La Notte: \"La
	 monetazione della Daunia. Storia degli studi e analisi della produzione\"
	\, edito a marzo 2011.\nAll'evento sarà annessa una conferenza inerente i
	l tema trattato nel volume.\n\nProgramma:\n\n\nIdeazione e struttura del v
	olume \nProblematiche generali \nSuddivisione nominale e ponderale dell’
	asse apulo \nAscoli Satriano emise monetazione fusa? \nL’obolo bronzeo A
	pollo/toro di Tiati e la sua attribuzione \nProspettive di ricerca \nCordi
	ali saluti.\nMaria A.\n
DTSTART;VALUE=DATE:20120309
END:VEVENT
END:VCALENDAR
