BEGIN:VCALENDAR
VERSION:2.0
PRODID:-//InvisionCommunity Events 4.7.22//EN
METHOD:PUBLISH
CALSCALE:GREGORIAN
REFRESH-INTERVAL:PT15M
X-PUBLISHED-TTL:PT15M
X-WR-CALNAME:Eventi culturali
NAME:Eventi culturali
BEGIN:VTIMEZONE
TZID:Europe/London
TZURL:http://tzurl.org/zoneinfo/Europe/London
X-LIC-LOCATION:Europe/London
BEGIN:DAYLIGHT
TZOFFSETFROM:+0000
TZOFFSETTO:+0100
TZNAME:BST
DTSTART:20120325T020000Z
RRULE:FREQ=YEARLY;BYMONTH=3;BYDAY=-1SU
END:DAYLIGHT
BEGIN:STANDARD
TZOFFSETFROM:+0100
TZOFFSETTO:+0000
TZNAME:GMT
DTSTART:20121028T020000Z
RRULE:FREQ=YEARLY;BYMONTH=10;BYDAY=-1SU
END:STANDARD
END:VTIMEZONE
BEGIN:VEVENT
SUMMARY:XIX Convegno Numismatico Filatelico a Firenze
DTSTAMP:20120210T183620Z
SEQUENCE:0
UID:539-1-6ccd8bfbdc7d7428e7082354d408d14b@www.lamoneta.it
ORGANIZER;CN="Mirko8710":no-reply@lamoneta.it
DESCRIPTION:\nNei giorni 24 e 25 febbraio 2012\, il Circolo Numismatico 
	Mediceo\, con il patrocinio del Comune di Firenze\, della Provincia di Fir
	enze e della Regione Toscana\, organizza il XIX Convegno Numimsmatico Fila
	telico presso il Novohotel Firenze Nord\, via Tevere 23 Sesto Fiorentino (
	zona Osmannoro).\nNell'occasione saranno esposte le 80 monete della collez
	ione che William Currie donò al Museo di Firenze nel 1863\, mai esposte e
	 mai edite.\nIl catalogo sarà edito a stampa per l'occasione della mostra
	 con il contributo finanziario dello stesso Circolo Numismatico Mediceo e 
	della NIA (Numismatici Italiani Associati)\, quest'ultima Associazione non
	 nuova a sponsorizzazioni del genere\, avendo già interamente contribuito
	 alla edizione delle monete del Dono Trentacoste dello stesso Monetiere.\n
	Le monete Currie sono oggi proprietà dello Stato e conservate nel Monetie
	re del Museo Archeologico Nazionale di Firenze. Per la prima volta escono 
	dai cassetti del Monetiere per essere visibili al pubblico. Tra non molto 
	saranno anche visibili nel catalogo on line del Monetiere curato con la di
	sponibilità de La Moneta.it.\nAncora una volta la collaborazione tra pubb
	lico e privato è stata possibile con l'unico vantaggio nella tutela e nel
	la fruizione di beni pubblici.\nCome è già successo con la collezione di
	 monete della Dinastia Savoia\, dono della Contessina Nugent nel 1954 al M
	useo di Firenze\, anche le monete che il Currie (monete greche e romane co
	n solo due monete inglesi) donò al Monetiere fiorentino sono note e tutel
	ate!.\nL'occasione è importante e\, benchè preveda altre occasioni di es
	posizione in altre città italiane\, vi chiedo caldamente di partecipare a
	ll'evento. E' importante dare un segnale forte da parte del pubblico- prop
	rietario del bene di gradimento di operazioni di questo genere.\nNon manca
	te!\nFiorenzo Catalli\nPer informazioni 339 6735806- 0571298941- 055- 5770
	00 \n
DTSTART;VALUE=DATE:20120224
DTEND;VALUE=DATE:20120226
ATTENDEE;CN="Mirko8710";CUTYPE=INDIVIDUAL;PARTSTAT=ACCEPTED:
	no-reply@lamoneta.it
END:VEVENT
END:VCALENDAR
