BEGIN:VCALENDAR
VERSION:2.0
PRODID:-//InvisionCommunity Events 4.7.22//EN
METHOD:PUBLISH
CALSCALE:GREGORIAN
REFRESH-INTERVAL:PT15M
X-PUBLISHED-TTL:PT15M
X-WR-CALNAME:Eventi culturali
NAME:Eventi culturali
BEGIN:VTIMEZONE
TZID:Europe/London
TZURL:http://tzurl.org/zoneinfo/Europe/London
X-LIC-LOCATION:Europe/London
BEGIN:DAYLIGHT
TZOFFSETFROM:+0000
TZOFFSETTO:+0100
TZNAME:BST
DTSTART:20120325T020000Z
RRULE:FREQ=YEARLY;BYMONTH=3;BYDAY=-1SU
END:DAYLIGHT
BEGIN:STANDARD
TZOFFSETFROM:+0100
TZOFFSETTO:+0000
TZNAME:GMT
DTSTART:20121028T020000Z
RRULE:FREQ=YEARLY;BYMONTH=10;BYDAY=-1SU
END:STANDARD
END:VTIMEZONE
BEGIN:VEVENT
SUMMARY:Veronafil 2012
DTSTAMP:20120302T202503Z
SEQUENCE:2
UID:558-1-6ccd8bfbdc7d7428e7082354d408d14b@www.lamoneta.it
ORGANIZER;CN="Mirko8710":no-reply@lamoneta.it
DESCRIPTION:\nSignore e Signori\, preparate le valigie\, i soldi :lol: e
	 tanta\, tanta\, tanta compagnia che in più siamo\, più ci si diverte.\n
	Sono aperte le \"iscrizioni\" al Veronafil 2012.\nIn queste tre giornate d
	'evento verranno inseriti i partecipanti alla fiera e ai consueti pranzi!\
	nOltre ai numerosi Stand\, troverete\, come al solito\, anche il banchetti
	no LaMoneta... (a dire il vero non ne ho conferma :D\, ci sarà??)\nLINK A
	LLA MANIFESTAZIONE\n
DTSTART;VALUE=DATE:20120525
DTEND;VALUE=DATE:20120528
ATTENDEE;CN="Mirko8710";CUTYPE=INDIVIDUAL;PARTSTAT=ACCEPTED:
	no-reply@lamoneta.it
ATTENDEE;CN="thommys";CUTYPE=INDIVIDUAL;PARTSTAT=ACCEPTED:no
	-reply@lamoneta.it
ATTENDEE;CN="Don Corleonem";CUTYPE=INDIVIDUAL;PARTSTAT=ACCEP
	TED:no-reply@lamoneta.it
ATTENDEE;CN="Albert75";CUTYPE=INDIVIDUAL;PARTSTAT=ACCEPTED:n
	o-reply@lamoneta.it
ATTENDEE;CN="plinio82";CUTYPE=INDIVIDUAL;PARTSTAT=ACCEPTED:n
	o-reply@lamoneta.it
ATTENDEE;CN="dabbene";CUTYPE=INDIVIDUAL;PARTSTAT=ACCEPTED:no
	-reply@lamoneta.it
ATTENDEE;CN="417sonia";CUTYPE=INDIVIDUAL;PARTSTAT=ACCEPTED:n
	o-reply@lamoneta.it
ATTENDEE;CN="heineken79";CUTYPE=INDIVIDUAL;PARTSTAT=ACCEPTED
	:no-reply@lamoneta.it
ATTENDEE;CN="piergi00";CUTYPE=INDIVIDUAL;PARTSTAT=ACCEPTED:n
	o-reply@lamoneta.it
ATTENDEE;CN="Utente.Anonimo3245";CUTYPE=INDIVIDUAL;PARTSTAT=
	ACCEPTED:no-reply@lamoneta.it
ATTENDEE;CN="LireP";CUTYPE=INDIVIDUAL;PARTSTAT=ACCEPTED:no-r
	eply@lamoneta.it
ATTENDEE;CN="magdi";CUTYPE=INDIVIDUAL;PARTSTAT=ACCEPTED:no-r
	eply@lamoneta.it
ATTENDEE;CN="flepre";CUTYPE=INDIVIDUAL;PARTSTAT=ACCEPTED:no-
	reply@lamoneta.it
ATTENDEE;CN="Guysimpsons";CUTYPE=INDIVIDUAL;PARTSTAT=ACCEPTE
	D:no-reply@lamoneta.it
ATTENDEE;CN="stefano.marengo";CUTYPE=INDIVIDUAL;PARTSTAT=ACC
	EPTED:no-reply@lamoneta.it
ATTENDEE;CN="luc21";CUTYPE=INDIVIDUAL;PARTSTAT=ACCEPTED:no-r
	eply@lamoneta.it
ATTENDEE;CN="Nik m.f";CUTYPE=INDIVIDUAL;PARTSTAT=ACCEPTED:no
	-reply@lamoneta.it
ATTENDEE;CN="toto73";CUTYPE=INDIVIDUAL;PARTSTAT=ACCEPTED:no-
	reply@lamoneta.it
ATTENDEE;CN="ciosky68";CUTYPE=INDIVIDUAL;PARTSTAT=ACCEPTED:n
	o-reply@lamoneta.it
ATTENDEE;CN="Liutprand";CUTYPE=INDIVIDUAL;PARTSTAT=ACCEPTED:
	no-reply@lamoneta.it
ATTENDEE;CN="Rapax";CUTYPE=INDIVIDUAL;PARTSTAT=ACCEPTED:no-r
	eply@lamoneta.it
ATTENDEE;CN="Albegor";CUTYPE=INDIVIDUAL;PARTSTAT=ACCEPTED:no
	-reply@lamoneta.it
ATTENDEE;CN="DONATELLO";CUTYPE=INDIVIDUAL;PARTSTAT=ACCEPTED:
	no-reply@lamoneta.it
END:VEVENT
END:VCALENDAR
