BEGIN:VCALENDAR
VERSION:2.0
PRODID:-//InvisionCommunity Events 4.7.22//EN
METHOD:PUBLISH
CALSCALE:GREGORIAN
REFRESH-INTERVAL:PT15M
X-PUBLISHED-TTL:PT15M
X-WR-CALNAME:Eventi culturali
NAME:Eventi culturali
BEGIN:VTIMEZONE
TZID:Europe/London
TZURL:http://tzurl.org/zoneinfo/Europe/London
X-LIC-LOCATION:Europe/London
BEGIN:DAYLIGHT
TZOFFSETFROM:+0000
TZOFFSETTO:+0100
TZNAME:BST
DTSTART:20120325T020000Z
RRULE:FREQ=YEARLY;BYMONTH=3;BYDAY=-1SU
END:DAYLIGHT
BEGIN:STANDARD
TZOFFSETFROM:+0100
TZOFFSETTO:+0000
TZNAME:GMT
DTSTART:20121028T020000Z
RRULE:FREQ=YEARLY;BYMONTH=10;BYDAY=-1SU
END:STANDARD
END:VTIMEZONE
BEGIN:VEVENT
SUMMARY:Convegno Numismatico di Torino 2012
DTSTAMP:20120305T170759Z
SEQUENCE:1
UID:559-1-6ccd8bfbdc7d7428e7082354d408d14b@www.lamoneta.it
ORGANIZER;CN="centurioneamico":no-reply@lamoneta.it
DESCRIPTION:\n31° Raduno Numismatico di Torino\n\n\nSabato 17 marzo: ap
	ertura del convegno alle ore 9.00 per il pubblico\, orario continuato fino
	 alle ore 18.00\;\n\n\n\nDomenica 18 marzo: apertura del convegno alle ore
	 9.00\, chiusura alle ore 14.00. \n\n\n\n\nOrganizzazione: Associazione nu
	mismatica taurinense\, C.so V.Emanuele II\, 65 (TO)\ntel. 011.5621930\nfax
	 011.544856\nDOVE SI TROVA:\n-‎Indirizzo: Jolly Hotel Ambasciatori\nCors
	o Vittorio Emanuele II\, 104\n10121 Torino (TO)\n- Per ulteriori informazi
	oni sull'Hotel visita il sito: www.jollyhotels.it\n_______________________
	_____________________________________________\nProgramma conferenze (Sala 
	Marconi):\n\n\nore 11.00: presentazione del libro \"Prove e Progetti\" del
	 colonnello Domenico Luppino\;\n\n\n\nore 11.30: presentazione del libro \
	"I Dogi e le loro monete\" di Eupremio Montenegro.\n\n\n\nore 12.00: prese
	ntazione del Portale Numismatico del Monetiere di Firenze con Fiorenzo Cat
	alli e Ass. Phalantos.\n\n\n\n\n__________________________________________
	__________________________\nAll'ingresso e per tutta la giornata di Sabato
	 sarà presente il Punto Informativo di www.lamoneta.it e una postazione w
	eb dove alcuni volontari dell'Ass. Culturale Phalantos saranno lieti di il
	lustrare ai presenti il lavoro di digitalizzazione in atto al Monetiere di
	 Firenze.\nPer ulteriori info potete mandarmi un MP.\n
DTSTART;VALUE=DATE:20120317
DTEND;VALUE=DATE:20120319
END:VEVENT
END:VCALENDAR
