BEGIN:VCALENDAR
VERSION:2.0
PRODID:-//InvisionCommunity Events 4.7.22//EN
METHOD:PUBLISH
CALSCALE:GREGORIAN
REFRESH-INTERVAL:PT15M
X-PUBLISHED-TTL:PT15M
X-WR-CALNAME:Eventi culturali
NAME:Eventi culturali
BEGIN:VTIMEZONE
TZID:Europe/London
TZURL:http://tzurl.org/zoneinfo/Europe/London
X-LIC-LOCATION:Europe/London
BEGIN:DAYLIGHT
TZOFFSETFROM:+0000
TZOFFSETTO:+0100
TZNAME:BST
DTSTART:20120325T020000Z
RRULE:FREQ=YEARLY;BYMONTH=3;BYDAY=-1SU
END:DAYLIGHT
BEGIN:STANDARD
TZOFFSETFROM:+0100
TZOFFSETTO:+0000
TZNAME:GMT
DTSTART:20121028T020000Z
RRULE:FREQ=YEARLY;BYMONTH=10;BYDAY=-1SU
END:STANDARD
END:VTIMEZONE
BEGIN:VEVENT
SUMMARY:FIGLINE VALDARNO - EVENTO FILATELICO-NUMISMATICO
DTSTAMP:20120321T220925Z
SEQUENCE:0
UID:564-1-6ccd8bfbdc7d7428e7082354d408d14b@www.lamoneta.it
ORGANIZER;CN="bombatio":no-reply@lamoneta.it
DESCRIPTION:SABATO E DOMENICA  IL CIRCOLO FILATELICO NUMISMATICO DI FIGL
	INE HA ORGANIZZATO PRESSO IL CENTRO SOCIALE \"IL GIARDINO\" UN CONVEGNO NA
	ZIONALE DEDICATO AL COLLEZIONISMO (MONETE\, MEDAGLIE\, CARTOLINE\,FRANCOBO
	LLI). SABATO MATTINA SARA' PRESENTE UN ANNULLO FILATELICO PREDISPOSTO DA P
	OSTE ITALIANO.
DTSTART;VALUE=DATE:20120324
DTEND;VALUE=DATE:20120326
END:VEVENT
END:VCALENDAR
