BEGIN:VCALENDAR
VERSION:2.0
PRODID:-//InvisionCommunity Events 4.7.22//EN
METHOD:PUBLISH
CALSCALE:GREGORIAN
REFRESH-INTERVAL:PT15M
X-PUBLISHED-TTL:PT15M
X-WR-CALNAME:Eventi culturali
NAME:Eventi culturali
BEGIN:VTIMEZONE
TZID:Europe/London
TZURL:http://tzurl.org/zoneinfo/Europe/London
X-LIC-LOCATION:Europe/London
BEGIN:DAYLIGHT
TZOFFSETFROM:+0000
TZOFFSETTO:+0100
TZNAME:BST
DTSTART:20120325T020000Z
RRULE:FREQ=YEARLY;BYMONTH=3;BYDAY=-1SU
END:DAYLIGHT
BEGIN:STANDARD
TZOFFSETFROM:+0100
TZOFFSETTO:+0000
TZNAME:GMT
DTSTART:20121028T020000Z
RRULE:FREQ=YEARLY;BYMONTH=10;BYDAY=-1SU
END:STANDARD
END:VTIMEZONE
BEGIN:VEVENT
SUMMARY:Genova - Conferenza
DTSTAMP:20120407T142053Z
SEQUENCE:0
UID:593-1-6ccd8bfbdc7d7428e7082354d408d14b@www.lamoneta.it
ORGANIZER;CN="Littore":no-reply@lamoneta.it
DESCRIPTION:\n\"Un gruzzolo di monete d'oro: nuovi dati per la storia di
	 Noli romana e tardoantica”\nConferenza di Alessandra Frondoni \nGenova\
	nCircolo Corrado Astengo\nPalazzo Ducale\, presso la Sede di Storia Patria
	\nOre 10:30\nhttp://www.lamoneta.it/topic/88997-conferenze-al-circolo-corr
	ado-astengo/page__pid__984965#entry984965\n
DTSTART;VALUE=DATE:20120520
END:VEVENT
END:VCALENDAR
