BEGIN:VCALENDAR
VERSION:2.0
PRODID:-//InvisionCommunity Events 4.7.22//EN
METHOD:PUBLISH
CALSCALE:GREGORIAN
REFRESH-INTERVAL:PT15M
X-PUBLISHED-TTL:PT15M
X-WR-CALNAME:Eventi culturali
NAME:Eventi culturali
BEGIN:VTIMEZONE
TZID:Europe/London
TZURL:http://tzurl.org/zoneinfo/Europe/London
X-LIC-LOCATION:Europe/London
BEGIN:DAYLIGHT
TZOFFSETFROM:+0000
TZOFFSETTO:+0100
TZNAME:BST
DTSTART:20120325T020000Z
RRULE:FREQ=YEARLY;BYMONTH=3;BYDAY=-1SU
END:DAYLIGHT
BEGIN:STANDARD
TZOFFSETFROM:+0100
TZOFFSETTO:+0000
TZNAME:GMT
DTSTART:20121028T020000Z
RRULE:FREQ=YEARLY;BYMONTH=10;BYDAY=-1SU
END:STANDARD
END:VTIMEZONE
BEGIN:VEVENT
SUMMARY:34º Raduno Numismatico dei Ducati
DTSTAMP:20120423T201755Z
SEQUENCE:0
UID:598-1-6ccd8bfbdc7d7428e7082354d408d14b@www.lamoneta.it
ORGANIZER;CN="incuso":no-reply@lamoneta.it
DESCRIPTION:\nDomenica 6 maggio torna\, come ogni prima domenica del mes
	e\, il raduno dei Ducati presso il Green Park\, piazza Pallini 2A a Sorbol
	o Levante (RE).\nL'ingresso come sempre è libero\, ed alla fine del radun
	o si svolgerà\, per chi si vuole fermare\, il consueto pranzo numismatico
	.\nTutte le informazioni sul sito dell'associazione:\nhttp://numismatica.d
	eiducati.altervista.org\n
DTSTART;VALUE=DATE:20120506
ATTENDEE;CN="incuso";CUTYPE=INDIVIDUAL;PARTSTAT=ACCEPTED:no-
	reply@lamoneta.it
END:VEVENT
END:VCALENDAR
