BEGIN:VCALENDAR
VERSION:2.0
PRODID:-//InvisionCommunity Events 4.7.22//EN
METHOD:PUBLISH
CALSCALE:GREGORIAN
REFRESH-INTERVAL:PT15M
X-PUBLISHED-TTL:PT15M
X-WR-CALNAME:Eventi culturali
NAME:Eventi culturali
BEGIN:VTIMEZONE
TZID:Europe/London
TZURL:http://tzurl.org/zoneinfo/Europe/London
X-LIC-LOCATION:Europe/London
BEGIN:DAYLIGHT
TZOFFSETFROM:+0000
TZOFFSETTO:+0100
TZNAME:BST
DTSTART:20120325T020000Z
RRULE:FREQ=YEARLY;BYMONTH=3;BYDAY=-1SU
END:DAYLIGHT
BEGIN:STANDARD
TZOFFSETFROM:+0100
TZOFFSETTO:+0000
TZNAME:GMT
DTSTART:20121028T020000Z
RRULE:FREQ=YEARLY;BYMONTH=10;BYDAY=-1SU
END:STANDARD
END:VTIMEZONE
BEGIN:VEVENT
SUMMARY:Biassono (MB) - SEMINARIO DI STUDI
DTSTAMP:20120508T072150Z
SEQUENCE:2
UID:608-1-6ccd8bfbdc7d7428e7082354d408d14b@www.lamoneta.it
ORGANIZER;CN="Rapax":no-reply@lamoneta.it
DESCRIPTION:\nNella giornata di sabato 9 giugno\, in Biassono (MB)\, pre
	sso la Sala Civica “Carlo Cattaneo”\, ingresso da Via. P. Verri\, si 
	terrà il seminario di studi:\nUn confronto drammatico con il XXI secolo: 
	l’Impero romano del III secolo nella crisi monetaria.\nIn occasione dell
	a presentazione delle 2239 monete romane\, fino al III secolo d.C.\, del
	 “Ripostiglio di Biassono 1975”\nIn allegato il programma dell'evento:
	\nBiassono_2012_Seminario  finale.pdf\nLink alla discussione del forum in 
	area segnalazioni:\nhttp://www.lamoneta....62#entry1000762\n\nPer ragioni 
	organizzative vi preghiamo di confermare la vs.presenza con un messaggio a
	: \n\n\ninfo@museobiassono.it oppure al 338-9965380\nVista l'importanza de
	ll'iniziativa\, il forum Lamoneta.it e la Società Numismatica Italiana\, 
	patrocinante l'evento\, auspicano una nutrita partecipazione.\n
DTSTART;VALUE=DATE:20120609
ATTENDEE;CN="dabbene";CUTYPE=INDIVIDUAL;PARTSTAT=ACCEPTED:no
	-reply@lamoneta.it
ATTENDEE;CN="Rapax";CUTYPE=INDIVIDUAL;PARTSTAT=ACCEPTED:no-r
	eply@lamoneta.it
ATTENDEE;CN="417sonia";CUTYPE=INDIVIDUAL;PARTSTAT=ACCEPTED:n
	o-reply@lamoneta.it
ATTENDEE;CN="ciosky68";CUTYPE=INDIVIDUAL;PARTSTAT=ACCEPTED:n
	o-reply@lamoneta.it
ATTENDEE;CN="eracle62";CUTYPE=INDIVIDUAL;PARTSTAT=ACCEPTED:n
	o-reply@lamoneta.it
ATTENDEE;CN="gpittini";CUTYPE=INDIVIDUAL;PARTSTAT=ACCEPTED:n
	o-reply@lamoneta.it
ATTENDEE;CN="giancarlone";CUTYPE=INDIVIDUAL;PARTSTAT=ACCEPTE
	D:no-reply@lamoneta.it
ATTENDEE;CN="numa numa";CUTYPE=INDIVIDUAL;PARTSTAT=ACCEPTED:
	no-reply@lamoneta.it
ATTENDEE;CN="eligio";CUTYPE=INDIVIDUAL;PARTSTAT=ACCEPTED:no-
	reply@lamoneta.it
ATTENDEE;CN="rongom";CUTYPE=INDIVIDUAL;PARTSTAT=ACCEPTED:no-
	reply@lamoneta.it
ATTENDEE;CN="Utente.Anonimo3245";CUTYPE=INDIVIDUAL;PARTSTAT=
	ACCEPTED:no-reply@lamoneta.it
ATTENDEE;CN="quattrino";CUTYPE=INDIVIDUAL;PARTSTAT=ACCEPTED:
	no-reply@lamoneta.it
ATTENDEE;CN="snam";CUTYPE=INDIVIDUAL;PARTSTAT=ACCEPTED:no-re
	ply@lamoneta.it
ATTENDEE;CN="thetop";CUTYPE=INDIVIDUAL;PARTSTAT=ACCEPTED:no-
	reply@lamoneta.it
ATTENDEE;CN="MARCO B";CUTYPE=INDIVIDUAL;PARTSTAT=ACCEPTED:no
	-reply@lamoneta.it
ATTENDEE;CN="giovanni";CUTYPE=INDIVIDUAL;PARTSTAT=ACCEPTED:n
	o-reply@lamoneta.it
ATTENDEE;CN="maxmux";CUTYPE=INDIVIDUAL;PARTSTAT=ACCEPTED:no-
	reply@lamoneta.it
ATTENDEE;CN="danroz";CUTYPE=INDIVIDUAL;PARTSTAT=ACCEPTED:no-
	reply@lamoneta.it
ATTENDEE;CN="Antonino Calì";CUTYPE=INDIVIDUAL;PARTSTAT=ACCE
	PTED:no-reply@lamoneta.it
ATTENDEE;CN="centurioneamico";CUTYPE=INDIVIDUAL;PARTSTAT=ACC
	EPTED:no-reply@lamoneta.it
ATTENDEE;CN="niko";CUTYPE=INDIVIDUAL;PARTSTAT=ACCEPTED:no-re
	ply@lamoneta.it
ATTENDEE;CN="Flavio";CUTYPE=INDIVIDUAL;PARTSTAT=ACCEPTED:no-
	reply@lamoneta.it
ATTENDEE;CN="Albegor";CUTYPE=INDIVIDUAL;PARTSTAT=ACCEPTED:no
	-reply@lamoneta.it
ATTENDEE;CN="aratro";CUTYPE=INDIVIDUAL;PARTSTAT=ACCEPTED:no-
	reply@lamoneta.it
END:VEVENT
END:VCALENDAR
