BEGIN:VCALENDAR
VERSION:2.0
PRODID:-//InvisionCommunity Events 4.7.22//EN
METHOD:PUBLISH
CALSCALE:GREGORIAN
REFRESH-INTERVAL:PT15M
X-PUBLISHED-TTL:PT15M
X-WR-CALNAME:Eventi culturali
NAME:Eventi culturali
BEGIN:VTIMEZONE
TZID:Europe/London
TZURL:http://tzurl.org/zoneinfo/Europe/London
X-LIC-LOCATION:Europe/London
BEGIN:DAYLIGHT
TZOFFSETFROM:+0000
TZOFFSETTO:+0100
TZNAME:BST
DTSTART:20120325T020000Z
RRULE:FREQ=YEARLY;BYMONTH=3;BYDAY=-1SU
END:DAYLIGHT
BEGIN:STANDARD
TZOFFSETFROM:+0100
TZOFFSETTO:+0000
TZNAME:GMT
DTSTART:20121028T020000Z
RRULE:FREQ=YEARLY;BYMONTH=10;BYDAY=-1SU
END:STANDARD
END:VTIMEZONE
BEGIN:VEVENT
SUMMARY:Presentazione \" Le Monete del Ducato di Castro\"
DTSTAMP:20120529T115702Z
SEQUENCE:0
UID:610-1-6ccd8bfbdc7d7428e7082354d408d14b@www.lamoneta.it
ORGANIZER;CN="Utente.Anonimo3245":no-reply@lamoneta.it
DESCRIPTION:\nBuonasera a tutti\, ricordo che sabato 2 Giugno alle ore 1
	0\,30 si svolgerà a Castro\, nel Santuario del SS. Sacramento\, la presen
	tazione del libro \" Le Monete del Ducato di Castro\" di Giovanni Contrucc
	i.\nIn concomitanza ho organizzato un Incontro Lamonetiano\, vi posto il l
	ink della discussione.\nChi volesse partecipare può rispondere sulla stes
	sa segnalandomi la sua presenza per la giornata.\nGrazie a tutti\, Giò\n\
	n\n
DTSTART;VALUE=DATE:20120602
END:VEVENT
END:VCALENDAR
