BEGIN:VCALENDAR
VERSION:2.0
PRODID:-//InvisionCommunity Events 4.7.22//EN
METHOD:PUBLISH
CALSCALE:GREGORIAN
REFRESH-INTERVAL:PT15M
X-PUBLISHED-TTL:PT15M
X-WR-CALNAME:Eventi culturali
NAME:Eventi culturali
BEGIN:VTIMEZONE
TZID:Europe/London
TZURL:http://tzurl.org/zoneinfo/Europe/London
X-LIC-LOCATION:Europe/London
BEGIN:DAYLIGHT
TZOFFSETFROM:+0000
TZOFFSETTO:+0100
TZNAME:BST
DTSTART:20120325T020000Z
RRULE:FREQ=YEARLY;BYMONTH=3;BYDAY=-1SU
END:DAYLIGHT
BEGIN:STANDARD
TZOFFSETFROM:+0100
TZOFFSETTO:+0000
TZNAME:GMT
DTSTART:20121028T020000Z
RRULE:FREQ=YEARLY;BYMONTH=10;BYDAY=-1SU
END:STANDARD
END:VTIMEZONE
BEGIN:VEVENT
SUMMARY:VICENZA NUMISMATICA 2012
DTSTAMP:20120608T062758Z
SEQUENCE:0
UID:612-1-6ccd8bfbdc7d7428e7082354d408d14b@www.lamoneta.it
ORGANIZER;CN="Liutprand":no-reply@lamoneta.it
DESCRIPTION:\nQuest'anno Vicenza Numismatica torna all'antico\, dopo l'e
	sperienza dello scorso anno in cui la manifestazione si tenne nei bei pala
	zzi storici della città\, quest'anno si ritorna alla Fiera di Vicenza il 
	28 e 29 settembre 2012.\nhttp://www.vicenzanumismatica.it/nqcontent.cfm?a_
	id=2558#\n
DTSTART;VALUE=DATE:20120928
DTEND;VALUE=DATE:20120930
END:VEVENT
END:VCALENDAR
