BEGIN:VCALENDAR
VERSION:2.0
PRODID:-//InvisionCommunity Events 4.7.22//EN
METHOD:PUBLISH
CALSCALE:GREGORIAN
REFRESH-INTERVAL:PT15M
X-PUBLISHED-TTL:PT15M
X-WR-CALNAME:Eventi culturali
NAME:Eventi culturali
BEGIN:VTIMEZONE
TZID:Europe/London
TZURL:http://tzurl.org/zoneinfo/Europe/London
X-LIC-LOCATION:Europe/London
BEGIN:DAYLIGHT
TZOFFSETFROM:+0000
TZOFFSETTO:+0100
TZNAME:BST
DTSTART:20120325T020000Z
RRULE:FREQ=YEARLY;BYMONTH=3;BYDAY=-1SU
END:DAYLIGHT
BEGIN:STANDARD
TZOFFSETFROM:+0100
TZOFFSETTO:+0000
TZNAME:GMT
DTSTART:20121028T020000Z
RRULE:FREQ=YEARLY;BYMONTH=10;BYDAY=-1SU
END:STANDARD
END:VTIMEZONE
BEGIN:VEVENT
SUMMARY:Riunione Estiva 2012
DTSTAMP:20120615T105555Z
SEQUENCE:0
UID:613-1-6ccd8bfbdc7d7428e7082354d408d14b@www.lamoneta.it
ORGANIZER;CN="Utente.Anonimo3245":no-reply@lamoneta.it
DESCRIPTION:\nBuongiorno a tutti\, per il giorno 7 Luglio\, dalle ore 17
	\,00\, ad oltranza\, ho indetto una nuova Riunione del Circolo Numismatico
	 Romano Laziale nella Sede del Circolo...a casa mia.\nSiete invitati tutti
	\, è gradita conferma della vostra presenza\, anche solo per MP se volete
	.\nInvierò le istruzioni per raggiungere la mia casa a tutti coloro che n
	e avranno bisogno.\nA presto\, Giò\n
DTSTART;VALUE=DATE:20120707
ATTENDEE;CN="Utente.Anonimo3245";CUTYPE=INDIVIDUAL;PARTSTAT=
	ACCEPTED:no-reply@lamoneta.it
ATTENDEE;CN="Paleologo";CUTYPE=INDIVIDUAL;PARTSTAT=ACCEPTED:
	no-reply@lamoneta.it
ATTENDEE;CN="dareios it";CUTYPE=INDIVIDUAL;PARTSTAT=ACCEPTED
	:no-reply@lamoneta.it
ATTENDEE;CN="Belisarius";CUTYPE=INDIVIDUAL;PARTSTAT=ACCEPTED
	:no-reply@lamoneta.it
END:VEVENT
END:VCALENDAR
