BEGIN:VCALENDAR
VERSION:2.0
PRODID:-//InvisionCommunity Events 4.7.22//EN
METHOD:PUBLISH
CALSCALE:GREGORIAN
REFRESH-INTERVAL:PT15M
X-PUBLISHED-TTL:PT15M
X-WR-CALNAME:Eventi culturali
NAME:Eventi culturali
BEGIN:VTIMEZONE
TZID:Europe/London
TZURL:http://tzurl.org/zoneinfo/Europe/London
X-LIC-LOCATION:Europe/London
BEGIN:DAYLIGHT
TZOFFSETFROM:+0000
TZOFFSETTO:+0100
TZNAME:BST
DTSTART:20120325T020000Z
RRULE:FREQ=YEARLY;BYMONTH=3;BYDAY=-1SU
END:DAYLIGHT
BEGIN:STANDARD
TZOFFSETFROM:+0100
TZOFFSETTO:+0000
TZNAME:GMT
DTSTART:20121028T020000Z
RRULE:FREQ=YEARLY;BYMONTH=10;BYDAY=-1SU
END:STANDARD
END:VTIMEZONE
BEGIN:VEVENT
SUMMARY:Messerano: la sua Zecca\, le sue Monete
DTSTAMP:20120703T063850Z
SEQUENCE:2
UID:619-1-6ccd8bfbdc7d7428e7082354d408d14b@www.lamoneta.it
ORGANIZER;CN="eligio":no-reply@lamoneta.it
DESCRIPTION:\nAVVISO PER TUTTI I LAMONETIANI\nLa mattina del 29 settembr
	e si sarà la possibilità di passare una mattinata insieme in attesa dell
	e iniziative numismatiche del pomeriggio. Ci troveremo a Candelo (BI)\, un
	 delizioso borgo a pochi chilometri da Masserano\, famoso per il suo ricet
	to (http://tinyurl.com/npdwew) intorno alle 10.30-11.00.\nThetop ci accomp
	agnerà per una visita in questo gioiellino architettonico. Al termine ci 
	accomoderemo al Ristorante Il Torchio (http://www.biellaris...lo/torchio.h
	tml) proprio dirimpetto all'ingresso principale del ricetto. Verrà predis
	posto un menu fisso intorno ai 25-30 euro\, ma per chi volesse ci sarà po
	ssibilità di variazioni o di scegliere alla carta. Chi non potrà essere 
	a Candelo fin dalla mattina potrà comunque raggiuncere il resto del grupp
	o al ristorante alle 12.30.\nAlle 14.00 ci sposteremo infine tutti a Masse
	rano\, per l'inizio della visita guidata.\nLe prenotazioni per il ristoran
	te NON devono essere gestite tramite il tasto RSVP ma semplicemente comuni
	cando il proprio nome e numero di accompagnatori in questa discussione: ht
	tp://www.lamoneta....-le-sue-monete/\n\n. o . o . o . o . o . o .\n\n\nPer
	 i dettagli e aggiornamento si rimanda a questa discussione: http://www.la
	moneta....-le-sue-monete/\n\nProgramma\n\n\n\nSabato 29 settembre 2012\n\n
	\n\nMASSERANO. Itinerario nei luoghi dei Ferrero-Fieschi\n\n\nOre 14:15 
	– ritrovo dei partecipanti presso la chiesa di San Teonesto a Masserano\
	nOre 14:30 – visita guidata alla chiesa e all’annesso Chiostro\, apert
	i in via straordinaria per l’occasione\nOre 16:00 – visita guidata all
	a Collegiata\nOre 17:00 – visita guidata al Palazzo dei Principi di Mass
	erano\, sede del Municipio. Saluto di benvenuto ai partecipanti da parte d
	el Sindaco di Masserano e introduzione alla conferenza Messerano: la sua Z
	ecca\, le sue Monete. Tra falsi miti e scomode verità a cura di Luca Gian
	azza (Società Numismatica Italiana). Modera: Franco Fornacca. Seguirà la
	 presentazione del progetto di F. Fornacca e A. Celso per la riscoperta e 
	valorizzazione del patrimonio documentario dell’antica zecca di Messeran
	o.\nOre 18:30 – rinfresco offerto ai partecipanti dall’Amministrazione
	 Comunale di Masserano.\nDurante il rinfresco sarà possibile visitare l
	’esposizione dei conii e dei documenti relativi all’antico feudo di Me
	sserano conservati presso le raccolte comunali.\n\nDomenica 30 settembre 2
	012\n\n\n\nBIELLA.  I Ferrero La Marmora e la memoria del feudo di Messera
	no\n\n\nOre 10:30 – ritrovo dei partecipanti presso la stazione di parte
	nza della Funicolare per Biella Piazzo (Biella\, Piazza Curiel).\nOre 11:0
	0 – visita guidata a Palazzo La Marmora\, dimora storica della famiglia 
	Ferrero della Marmora e attuale sede del Centro Studi Generazioni e Luoghi
	\,  dove sarà possibile vedere l’esposizione di 26 conii della zecca di
	 Messerano appartenenti agli Archivi Alberti La Marmora.\nPranzo libero (*
	)\nOre 14:00 – ritrovo presso la Basilica di San Sebastiano per la visit
	a alla chiesa e alla cripta dei Ferrero La Marmora.\nOre 15:00 – Visita 
	guidata all’Archivio di Stato di Biella\, dove sarà allestita una espos
	izione di documenti relativi alla zecca all’epoca dei Ferrero Fieschi e 
	una di monete di Messerano provenienti da collezioni private.\nOre 16:00
	 – Visita guidata al Museo del Territorio\n(*) All’interno del Chiostr
	o di San Sebastiano\, sede del Museo del Territorio\, è disponibile una c
	affetteria. In alternativa è possibile pranzare in uno dei ristoranti tip
	ici a Biella Piazzo.\n\n- - - -\n\n\nTutte le visite hanno carattere gratu
	ito. Gli itinerari si svolgono a piedi\, sotto responsabilità dei singoli
	 partecipanti\, in qualsiasi condizione meteo.\nI partecipanti saranno acc
	ompagnati da guide locali e da esperti che illustreranno i luoghi e la sto
	ria del territorio.\nPer ragioni organizzative è gradita una gentile conf
	erma della partecipazione a una o entrambe le giornate inviando una mail a
	 franco@frafor.com oppure contattando il 335-6976929 (Franco Fornacca). La
	 partecipazione alla conferenza è libera e non richiede conferma.\n
DTSTART;VALUE=DATE:20120929
DTEND;VALUE=DATE:20121001
ATTENDEE;CN="eligio";CUTYPE=INDIVIDUAL;PARTSTAT=ACCEPTED:no-
	reply@lamoneta.it
ATTENDEE;CN="dabbene";CUTYPE=INDIVIDUAL;PARTSTAT=ACCEPTED:no
	-reply@lamoneta.it
ATTENDEE;CN="numa numa";CUTYPE=INDIVIDUAL;PARTSTAT=ACCEPTED:
	no-reply@lamoneta.it
ATTENDEE;CN="417sonia";CUTYPE=INDIVIDUAL;PARTSTAT=ACCEPTED:n
	o-reply@lamoneta.it
ATTENDEE;CN="thetop";CUTYPE=INDIVIDUAL;PARTSTAT=ACCEPTED:no-
	reply@lamoneta.it
ATTENDEE;CN="vwgolf";CUTYPE=INDIVIDUAL;PARTSTAT=ACCEPTED:no-
	reply@lamoneta.it
ATTENDEE;CN="andyscudo";CUTYPE=INDIVIDUAL;PARTSTAT=ACCEPTED:
	no-reply@lamoneta.it
ATTENDEE;CN="stuyvesant";CUTYPE=INDIVIDUAL;PARTSTAT=ACCEPTED
	:no-reply@lamoneta.it
ATTENDEE;CN="ambidestro";CUTYPE=INDIVIDUAL;PARTSTAT=ACCEPTED
	:no-reply@lamoneta.it
ATTENDEE;CN="rongom";CUTYPE=INDIVIDUAL;PARTSTAT=ACCEPTED:no-
	reply@lamoneta.it
END:VEVENT
END:VCALENDAR
