BEGIN:VCALENDAR
VERSION:2.0
PRODID:-//InvisionCommunity Events 4.7.22//EN
METHOD:PUBLISH
CALSCALE:GREGORIAN
REFRESH-INTERVAL:PT15M
X-PUBLISHED-TTL:PT15M
X-WR-CALNAME:Eventi culturali
NAME:Eventi culturali
BEGIN:VTIMEZONE
TZID:Europe/London
TZURL:http://tzurl.org/zoneinfo/Europe/London
X-LIC-LOCATION:Europe/London
BEGIN:DAYLIGHT
TZOFFSETFROM:+0000
TZOFFSETTO:+0100
TZNAME:BST
DTSTART:20120325T020000Z
RRULE:FREQ=YEARLY;BYMONTH=3;BYDAY=-1SU
END:DAYLIGHT
BEGIN:STANDARD
TZOFFSETFROM:+0100
TZOFFSETTO:+0000
TZNAME:GMT
DTSTART:20121028T020000Z
RRULE:FREQ=YEARLY;BYMONTH=10;BYDAY=-1SU
END:STANDARD
END:VTIMEZONE
BEGIN:VEVENT
SUMMARY:Il tesoro di Borzano: presentazione libro
DTSTAMP:20120704T160426Z
SEQUENCE:1
UID:621-1-6ccd8bfbdc7d7428e7082354d408d14b@www.lamoneta.it
ORGANIZER;CN="medusa":no-reply@lamoneta.it
DESCRIPTION:Sabato 14 Luglio 2012\, alle ore 18:00\, presso il Centro di
	 Educazione Ambientale di Borzano di Albinea (RE) avverrà la presentazion
	e del libro \"Il tesoro di Borzano\" (riesame di uno fra i principali rinv
	enimenti di denari e quinari repubblicani) a cura degli Autori Giuseppe Li
	gabue e Giovanni Santelli.
DTSTART;VALUE=DATE:20120714
END:VEVENT
END:VCALENDAR
