BEGIN:VCALENDAR
VERSION:2.0
PRODID:-//InvisionCommunity Events 4.7.22//EN
METHOD:PUBLISH
CALSCALE:GREGORIAN
REFRESH-INTERVAL:PT15M
X-PUBLISHED-TTL:PT15M
X-WR-CALNAME:Eventi culturali
NAME:Eventi culturali
BEGIN:VTIMEZONE
TZID:Europe/London
TZURL:http://tzurl.org/zoneinfo/Europe/London
X-LIC-LOCATION:Europe/London
BEGIN:DAYLIGHT
TZOFFSETFROM:+0000
TZOFFSETTO:+0100
TZNAME:BST
DTSTART:20120325T020000Z
RRULE:FREQ=YEARLY;BYMONTH=3;BYDAY=-1SU
END:DAYLIGHT
BEGIN:STANDARD
TZOFFSETFROM:+0100
TZOFFSETTO:+0000
TZNAME:GMT
DTSTART:20121028T020000Z
RRULE:FREQ=YEARLY;BYMONTH=10;BYDAY=-1SU
END:STANDARD
END:VTIMEZONE
BEGIN:VEVENT
SUMMARY:Catania - Convegno Numismatico
DTSTAMP:20120823T062649Z
SEQUENCE:0
UID:628-1-6ccd8bfbdc7d7428e7082354d408d14b@www.lamoneta.it
ORGANIZER;CN="Littore":no-reply@lamoneta.it
DESCRIPTION:\nConvegno Numismatico\nc/o Hotel Nettuno\nV.le Ruggero Di L
	auria 121-123\nCatania\nhttp://www.lamoneta.it/topic/92644-catania-convegn
	o-numismatico-6-e-7-ottobre-2012/\n
DTSTART;VALUE=DATE:20121006
DTEND;VALUE=DATE:20121008
ATTENDEE;CN="providentiaoptimiprincipis";CUTYPE=INDIVIDUAL;P
	ARTSTAT=ACCEPTED:no-reply@lamoneta.it
ATTENDEE;CN="Rex Siciliae";CUTYPE=INDIVIDUAL;PARTSTAT=ACCEPT
	ED:no-reply@lamoneta.it
ATTENDEE;CN="Numi 62";CUTYPE=INDIVIDUAL;PARTSTAT=ACCEPTED:no
	-reply@lamoneta.it
ATTENDEE;CN="Utente.Anonimo3245";CUTYPE=INDIVIDUAL;PARTSTAT=
	ACCEPTED:no-reply@lamoneta.it
END:VEVENT
END:VCALENDAR
