BEGIN:VCALENDAR
VERSION:2.0
PRODID:-//InvisionCommunity Events 4.7.22//EN
METHOD:PUBLISH
CALSCALE:GREGORIAN
REFRESH-INTERVAL:PT15M
X-PUBLISHED-TTL:PT15M
X-WR-CALNAME:Eventi culturali
NAME:Eventi culturali
BEGIN:VTIMEZONE
TZID:Europe/London
TZURL:http://tzurl.org/zoneinfo/Europe/London
X-LIC-LOCATION:Europe/London
BEGIN:DAYLIGHT
TZOFFSETFROM:+0000
TZOFFSETTO:+0100
TZNAME:BST
DTSTART:20120325T020000Z
RRULE:FREQ=YEARLY;BYMONTH=3;BYDAY=-1SU
END:DAYLIGHT
BEGIN:STANDARD
TZOFFSETFROM:+0100
TZOFFSETTO:+0000
TZNAME:GMT
DTSTART:20121028T020000Z
RRULE:FREQ=YEARLY;BYMONTH=10;BYDAY=-1SU
END:STANDARD
END:VTIMEZONE
BEGIN:VEVENT
SUMMARY:1º Raduno Numismatico Cà Nova
DTSTAMP:20120914T082206Z
SEQUENCE:2
UID:634-1-6ccd8bfbdc7d7428e7082354d408d14b@www.lamoneta.it
ORGANIZER;CN="incuso":no-reply@lamoneta.it
DESCRIPTION:\nNuova iniziativà che si ripeterà ogni prima domenica del
	 mese.\nIl raduno si svolge in una bellissima corte ristrutturata dell'800
	 con menú convenzionati\, ampio parcheggio e possibilità di pernottament
	o.\nLocandina:\n\nCome raggiungere la corte:\nhttp://www.cascina-c...it/co
	ntatti.php\nMappa:\nhttps://maps.google....=h&amp\;source=embed\nFoto:\n\n
DTSTART:20121007T074500Z
DTEND:20121007T104500Z
ATTENDEE;CN="gallo83";CUTYPE=INDIVIDUAL;PARTSTAT=ACCEPTED:no
	-reply@lamoneta.it
ATTENDEE;CN="incuso";CUTYPE=INDIVIDUAL;PARTSTAT=ACCEPTED:no-
	reply@lamoneta.it
END:VEVENT
END:VCALENDAR
