BEGIN:VCALENDAR
VERSION:2.0
PRODID:-//InvisionCommunity Events 4.7.22//EN
METHOD:PUBLISH
CALSCALE:GREGORIAN
REFRESH-INTERVAL:PT15M
X-PUBLISHED-TTL:PT15M
X-WR-CALNAME:Eventi culturali
NAME:Eventi culturali
BEGIN:VTIMEZONE
TZID:Europe/London
TZURL:http://tzurl.org/zoneinfo/Europe/London
X-LIC-LOCATION:Europe/London
BEGIN:DAYLIGHT
TZOFFSETFROM:+0000
TZOFFSETTO:+0100
TZNAME:BST
DTSTART:20120325T020000Z
RRULE:FREQ=YEARLY;BYMONTH=3;BYDAY=-1SU
END:DAYLIGHT
BEGIN:STANDARD
TZOFFSETFROM:+0100
TZOFFSETTO:+0000
TZNAME:GMT
DTSTART:20121028T020000Z
RRULE:FREQ=YEARLY;BYMONTH=10;BYDAY=-1SU
END:STANDARD
END:VTIMEZONE
BEGIN:VEVENT
SUMMARY:Aste 407-408 Dr. Busso Peus Nachf.
DTSTAMP:20120930T131314Z
SEQUENCE:0
UID:636-1-6ccd8bfbdc7d7428e7082354d408d14b@www.lamoneta.it
ORGANIZER;CN="Littore":no-reply@lamoneta.it
DESCRIPTION:\nAste 407-408 Dr. Busso Peus Nachf.\nnh-Hotel Frankfurt-Cit
	y\nVilbeler Straße 2\, \n60313 Frankfurt am Main.\nhttp://www.lamoneta.it
	/topic/95822-aste-numismatiche-drbusso-n407-408-del7-91112/\n
DTSTART;VALUE=DATE:20121107
DTEND;VALUE=DATE:20121110
END:VEVENT
END:VCALENDAR
