BEGIN:VCALENDAR
VERSION:2.0
PRODID:-//InvisionCommunity Events 4.7.22//EN
METHOD:PUBLISH
CALSCALE:GREGORIAN
REFRESH-INTERVAL:PT15M
X-PUBLISHED-TTL:PT15M
X-WR-CALNAME:Eventi culturali
NAME:Eventi culturali
BEGIN:VTIMEZONE
TZID:Europe/London
TZURL:http://tzurl.org/zoneinfo/Europe/London
X-LIC-LOCATION:Europe/London
BEGIN:DAYLIGHT
TZOFFSETFROM:+0000
TZOFFSETTO:+0100
TZNAME:BST
DTSTART:20120325T020000Z
RRULE:FREQ=YEARLY;BYMONTH=3;BYDAY=-1SU
END:DAYLIGHT
BEGIN:STANDARD
TZOFFSETFROM:+0100
TZOFFSETTO:+0000
TZNAME:GMT
DTSTART:20121028T020000Z
RRULE:FREQ=YEARLY;BYMONTH=10;BYDAY=-1SU
END:STANDARD
END:VTIMEZONE
BEGIN:VEVENT
SUMMARY:50a Asta numismatica Ghiglione
DTSTAMP:20121019T064602Z
SEQUENCE:0
UID:640-1-6ccd8bfbdc7d7428e7082354d408d14b@www.lamoneta.it
ORGANIZER;CN="Littore":no-reply@lamoneta.it
DESCRIPTION:\n50a Asta numismatica Ghiglione\n1a SESSIONE\nMattino - ore
	 10\,30 : dal n. 1 al n. 394\n Monete di Città Italiane\n Monete Decimali
	 Italiane\n Monete Estere\n2a SESSIONE\nPomeriggio - ore 15 : dal n. 395 a
	l n. 936\n Monete Estere\n Medaglie\n Pesi Monetari\n Lotti e Collezioni\n
	 Cartamoneta da Collezione\n Libri del Collezionista\n
DTSTART;VALUE=DATE:20121115
END:VEVENT
END:VCALENDAR
