BEGIN:VCALENDAR
VERSION:2.0
PRODID:-//InvisionCommunity Events 4.7.22//EN
METHOD:PUBLISH
CALSCALE:GREGORIAN
REFRESH-INTERVAL:PT15M
X-PUBLISHED-TTL:PT15M
X-WR-CALNAME:Eventi culturali
NAME:Eventi culturali
BEGIN:VTIMEZONE
TZID:Europe/London
TZURL:http://tzurl.org/zoneinfo/Europe/London
X-LIC-LOCATION:Europe/London
BEGIN:DAYLIGHT
TZOFFSETFROM:+0000
TZOFFSETTO:+0100
TZNAME:BST
DTSTART:20050327T020000Z
RRULE:FREQ=YEARLY;BYMONTH=3;BYDAY=-1SU
END:DAYLIGHT
BEGIN:STANDARD
TZOFFSETFROM:+0100
TZOFFSETTO:+0000
TZNAME:GMT
DTSTART:20051030T020000Z
RRULE:FREQ=YEARLY;BYMONTH=10;BYDAY=-1SU
END:STANDARD
END:VTIMEZONE
BEGIN:VEVENT
SUMMARY:41^ LEONESSA D'ITALIA - MONTICHIARI
DTSTAMP:20051007T220001Z
SEQUENCE:1
UID:66-1-6ccd8bfbdc7d7428e7082354d408d14b@www.lamoneta.it
ORGANIZER;CN="SISTEMATICA":no-reply@lamoneta.it
DESCRIPTION:\n41° LEONESSA D'ITALIA-MANIF.COMM. FIL.NUM.CART.TEL.\nData
	: 08-10-2005\nData fine: 08-10-2005\nLocalita': MONTICHIARI(BS) \nLuogo di
	 svolgimento: CENTRO FIERA DEL GARDA-Padiglione Idro-VIA BRESCIA-MONTICHIA
	RI\nOrario di inizio: 10:00:00\nOrario di fine: 17:00:00\nTipo di manifest
	azione: Mostra mercato\nArea di interesse:\nFilatelia\nNumismatica\nCartol
	inafilia\nESPOSITORI presenti e relativi METRAGGI nell'ultima edizione svo
	ltasi il sabato 9 Ottobre 2004:\nFILATELIA...................N.34.x MT.106
	\nNUMISMATICA.............N.32.x MT.124\nCARTOLINAFILIA..........N.12.xMT.
	.. 46\nTELECARTE-kinder........N..3 xMT....12\nAZIENDE MATERIALI.....N.1.x
	MT...6\nTOTALI.........................N.82.xMT. 294\nRISERVATO ESCLUSIVAM
	ENTE AGLI ESPOSITORI DI:\nFILATELIA-NUMISMATICA-CARTOLINAFILIA-TELECARTE-K
	INDER\nNOLEGGIO TAVOLI DA MT. 2\,20 x MT. 0\,70 €URO 30\,00\nSOTTOSCRIZI
	ONE METRI ESPOSITIVI ALLA DATA:\nINFORMAZIONI: SISTEMATICA srl\nVIA VENTUR
	I 32\n51100 PISTOIA\nTEL 0573/533087-451463-337/676391-335/8291325\ninfo@s
	ss-sistematica.it\nwww.sss-sistematica.it\nPresenza Stand con prodotti\nSI
	STEMATICA-SASSONE-KABE-HAWID\n
DTSTART:20051007T020000Z
END:VEVENT
END:VCALENDAR
