BEGIN:VCALENDAR
VERSION:2.0
PRODID:-//InvisionCommunity Events 4.7.22//EN
METHOD:PUBLISH
CALSCALE:GREGORIAN
REFRESH-INTERVAL:PT15M
X-PUBLISHED-TTL:PT15M
X-WR-CALNAME:Eventi culturali
NAME:Eventi culturali
BEGIN:VTIMEZONE
TZID:Europe/London
TZURL:http://tzurl.org/zoneinfo/Europe/London
X-LIC-LOCATION:Europe/London
BEGIN:DAYLIGHT
TZOFFSETFROM:+0000
TZOFFSETTO:+0100
TZNAME:BST
DTSTART:20130331T020000Z
RRULE:FREQ=YEARLY;BYMONTH=3;BYDAY=-1SU
END:DAYLIGHT
BEGIN:STANDARD
TZOFFSETFROM:+0100
TZOFFSETTO:+0000
TZNAME:GMT
DTSTART:20131027T020000Z
RRULE:FREQ=YEARLY;BYMONTH=10;BYDAY=-1SU
END:STANDARD
END:VTIMEZONE
BEGIN:VEVENT
SUMMARY:I medaglioni Romani Provinciali e Contorniati
DTSTAMP:20130124T134620Z
SEQUENCE:0
UID:680-1-6ccd8bfbdc7d7428e7082354d408d14b@www.lamoneta.it
ORGANIZER;CN="centurioneamico":no-reply@lamoneta.it
DESCRIPTION:\n\n\n\n\nIL MINISTERO PER I BENI E LE ATTIVITA’ CULTURALI
	 - Soprintendenza per i Beni Archeologici della Toscana -Museo Archeologic
	o Nazionale di Firenze\, Monetiere\, presenta la mostra su:\nI MEDAGLIONI 
	ROMANI PROVINCIALI E CONTORNIATI\nMuseo Archeologico Nazionale di Firenze\
	nCorridoio Mediceo\n15 febbraio- 30 settembre 2013\nConferenza di inaugura
	zione : 15 febbraio 2013 ore 17\,00 \nMuseo Nazionale Archeologico\n P.za 
	SS. Annunziata 9\, Firenze \nVedi anche la discussione: http://www.lamonet
	a.it/topic/101227-mostra-i-medaglioni-romani-provinciali-e-contorn/?p=1135
	510\n
DTSTART:20130215T160000Z
DTEND:20130930T160000Z
END:VEVENT
END:VCALENDAR
