BEGIN:VCALENDAR
VERSION:2.0
PRODID:-//InvisionCommunity Events 4.7.22//EN
METHOD:PUBLISH
CALSCALE:GREGORIAN
REFRESH-INTERVAL:PT15M
X-PUBLISHED-TTL:PT15M
X-WR-CALNAME:Eventi culturali
NAME:Eventi culturali
BEGIN:VTIMEZONE
TZID:Europe/London
TZURL:http://tzurl.org/zoneinfo/Europe/London
X-LIC-LOCATION:Europe/London
BEGIN:DAYLIGHT
TZOFFSETFROM:+0000
TZOFFSETTO:+0100
TZNAME:BST
DTSTART:20130331T020000Z
RRULE:FREQ=YEARLY;BYMONTH=3;BYDAY=-1SU
END:DAYLIGHT
BEGIN:STANDARD
TZOFFSETFROM:+0100
TZOFFSETTO:+0000
TZNAME:GMT
DTSTART:20131027T020000Z
RRULE:FREQ=YEARLY;BYMONTH=10;BYDAY=-1SU
END:STANDARD
END:VTIMEZONE
BEGIN:VEVENT
SUMMARY:Künker - Aste di primavera 226/231
DTSTAMP:20130202T163039Z
SEQUENCE:1
UID:684-1-6ccd8bfbdc7d7428e7082354d408d14b@www.lamoneta.it
ORGANIZER;CN="Littore":no-reply@lamoneta.it
DESCRIPTION:\nKünker Münzauktionen und Goldhandel\nAste di primavera 2
	26/231  \nHotel Remarque\, Osnabrück\nAuction 226 - Coins from the Ancien
	t World | The Collection Koch a.o.  \nAuction 227 - The Collection Dr. Edo
	adro Curti \n                          Selected Medieval Coins from the Mi
	gration Period \n                           to the Hundred Years War  \nAu
	ction 228 - Coins and Medals of the Medieval and Modern Times  \nAuction 2
	29 - Cologne\, the Rhineland and Westphalia \n                          Nu
	remberg and Franconia \n                          Two important Special Co
	llections\, a.o.   \nAuction 230 - Gold Coins: The Collection Vogel\, Part
	 5\, a.o. \n                          German Coins since 1871 \n          
	                Russian Coins and Medals   \nAuction 231 - The Sultan Coll
	ection \n                           An Old Private Collection of Ottoman C
	oins\, Part 3\nPer visualizzare i cataloghi:\nhttps://www.kuenker.de/Onlin
	e_Kataloge_en.kuenker\n
DTSTART;VALUE=DATE:20130311
DTEND;VALUE=DATE:20130317
END:VEVENT
END:VCALENDAR
