BEGIN:VCALENDAR
VERSION:2.0
PRODID:-//InvisionCommunity Events 4.7.22//EN
METHOD:PUBLISH
CALSCALE:GREGORIAN
REFRESH-INTERVAL:PT15M
X-PUBLISHED-TTL:PT15M
X-WR-CALNAME:Eventi culturali
NAME:Eventi culturali
BEGIN:VTIMEZONE
TZID:Europe/London
TZURL:http://tzurl.org/zoneinfo/Europe/London
X-LIC-LOCATION:Europe/London
BEGIN:DAYLIGHT
TZOFFSETFROM:+0000
TZOFFSETTO:+0100
TZNAME:BST
DTSTART:20130331T020000Z
RRULE:FREQ=YEARLY;BYMONTH=3;BYDAY=-1SU
END:DAYLIGHT
BEGIN:STANDARD
TZOFFSETFROM:+0100
TZOFFSETTO:+0000
TZNAME:GMT
DTSTART:20131027T020000Z
RRULE:FREQ=YEARLY;BYMONTH=10;BYDAY=-1SU
END:STANDARD
END:VTIMEZONE
BEGIN:VEVENT
SUMMARY:2a Conferenza di Numismatica - Biella
DTSTAMP:20130712T104200Z
SEQUENCE:2
UID:706-1-6ccd8bfbdc7d7428e7082354d408d14b@www.lamoneta.it
ORGANIZER;CN="eligio":no-reply@lamoneta.it
DESCRIPTION:\n\n\nLa Città di Biella\, (Museo del Territorio Biellese\,
	 Biblioteca Civica)\, e l'Archivio di Stato di Biella\,\ncon la collaboraz
	ione di ArchiVivo Associazione Amici dell'Archivio di Stato di Biella\n \n
	\n\n\n\norganizzano una serie di iniziative dal titolo\n\n\n\n \n\n\n\nRic
	co Biellese: soldi\, memoria e arte di un territorio da scoprire\n\n\n\n \
	n\n\n\n \n\n\n\nProgramma\n\n\n\n \n\n\n\nSabato 28 settembre 2013\n\n\n \
	n\nBiella. Itinerario nei luoghi della storia\n\n\n\n \n\n\nOre 10:00 - ri
	trovo dei partecipanti presso la partenza della Funicolare\, per Biella Pi
	azzo (Biella\, Piazza Curiel).\nOre 10:15 - Palazzo La Marmora. Benvenuto 
	da parte di Francesco degli Alberti e visita al palazzo. Esposizione della
	 collezione completa di conii e punzoni della zecca di Messerano\, oggetto
	 di studio\, di imminente pubblicazione.  \nOre 12:00 - Pranzo presso Caff
	etteria del Chiostro.\nOre 14:30 - Inizio conferenza presso la sala conveg
	ni. Saluto di benvenuto ai partecipanti da parte dell’Assessore alla Cul
	tura A. Delmastro delle Vedove\, introduzione alla conferenza:\n\n \n\n\n\
	nRicco Biellese: soldi\, memoria e arte di un territorio da scoprire \n\n\
	n \na cura di Danilo Craveia (Archivio di Stato di Biella). Modera: Luca G
	ianazza (Società Numismatica Italiana).\n \nOre 16:00 - Visita Archivio d
	i Stato dove si potranno vedere parte dei documenti citati nell’interven
	to di Danilo Craveia.\nOre 17:30 - Inaugurazione esposizione di monete\, m
	ateriale etnografico e libri \"Giacomo Calleri: studioso e collezionista\"
	\, primo piano\, Museo del Territorio Biellese. L’esposizione rimane ape
	rta sino al 27 ottobre 2013\, secondo gli orari di apertura del Museo. \n\
	n \n\n\n\n \n\n\n\n \n\n\n\nDomenica 29 settembre 2013\n\n\n\n \n\n\n\nOro
	pa. Oasi di pace e di ... cultura\n\n\nOre 09:45 - ritrovo dei partecipant
	i presso il portico di fronte la chiesa vecchia del Santuario di Oropa.  \
	nOre 10:00 - Inizio visita del Santuario: sacello\, biblioteca\, archivio\
	, appartamenti dei Savoia\, Galleria quadri votivi\, ecc. con l’onore di
	 avere come guida il Comm. Mario Coda\, che illustrerà tutti gli aspetti 
	storici e curiosità del santuario.\nPranzo presso un ristorante del Santu
	ario.\nOre 15:00 - Fine della due giorni\n\n- - - - -\n\n\n\n \n\n\n\n \n\
	n\nTutte le visite hanno carattere gratuito. Gli itinerari si svolgono a p
	iedi\, sotto responsabilità dei singoli partecipanti\, in qualsiasi condi
	zione meteo.\nI partecipanti saranno accompagnati da guide locali e da esp
	erti che illustreranno i luoghi e la storia del territorio.\nPer ragioni o
	rganizzative è gradita una gentile conferma della partecipazione a una o 
	entrambe le giornate inviando una mail a franco@frafor.com oppure contatta
	ndo il 335-6976929 (Franco Fornacca). La partecipazione alla conferenza è
	 libera e non richiede conferma\n
DTSTART;VALUE=DATE:20130928
DTEND;VALUE=DATE:20130930
ATTENDEE;CN="eligio";CUTYPE=INDIVIDUAL;PARTSTAT=ACCEPTED:no-
	reply@lamoneta.it
ATTENDEE;CN="dabbene";CUTYPE=INDIVIDUAL;PARTSTAT=ACCEPTED:no
	-reply@lamoneta.it
END:VEVENT
END:VCALENDAR
