BEGIN:VCALENDAR
VERSION:2.0
PRODID:-//InvisionCommunity Events 4.7.22//EN
METHOD:PUBLISH
CALSCALE:GREGORIAN
REFRESH-INTERVAL:PT15M
X-PUBLISHED-TTL:PT15M
X-WR-CALNAME:Eventi culturali
NAME:Eventi culturali
BEGIN:VTIMEZONE
TZID:Europe/London
TZURL:http://tzurl.org/zoneinfo/Europe/London
X-LIC-LOCATION:Europe/London
BEGIN:DAYLIGHT
TZOFFSETFROM:+0000
TZOFFSETTO:+0100
TZNAME:BST
DTSTART:20060326T020000Z
RRULE:FREQ=YEARLY;BYMONTH=3;BYDAY=-1SU
END:DAYLIGHT
BEGIN:STANDARD
TZOFFSETFROM:+0100
TZOFFSETTO:+0000
TZNAME:GMT
DTSTART:20061029T020000Z
RRULE:FREQ=YEARLY;BYMONTH=10;BYDAY=-1SU
END:STANDARD
END:VTIMEZONE
BEGIN:VEVENT
SUMMARY:Mercatino di Carmagnola (TO) INFO POINT
DTSTAMP:20060211T230001Z
SEQUENCE:1
UID:71-1-6ccd8bfbdc7d7428e7082354d408d14b@www.lamoneta.it
ORGANIZER;CN="centurioneamico":no-reply@lamoneta.it
DESCRIPTION:\nMercatino dell'antiquariato a Carmagnola (TO)\nSarà prese
	nte il Nostro PUNTO INFORMATIVO \nIl centro storico ospita oltre 100 banca
	relle che offrono piccolo antiquariato\, numismatica\, oggetti da collezio
	nismo\, artigianato tipico e attrezzi per l'agricoltura.\nRicorrenza: \nOg
	ni seconda domenica del mese\nda Gennaio a Dicembre \nPagamenti: \nIngress
	o gratuito \nServizi: \nVendita Prodotti Tipici - \nMercatino dell'antiqua
	riato \nCarmagnola (TO) \nTel: 011/9724111 \nCome raggiungerci :\nTreno:Ca
	rmagnola \nAutostrada:A6/E717 -SP129 -SS661\n
DTSTART:20060211T010000Z
END:VEVENT
END:VCALENDAR
