BEGIN:VCALENDAR
VERSION:2.0
PRODID:-//InvisionCommunity Events 4.7.22//EN
METHOD:PUBLISH
CALSCALE:GREGORIAN
REFRESH-INTERVAL:PT15M
X-PUBLISHED-TTL:PT15M
X-WR-CALNAME:Eventi culturali
NAME:Eventi culturali
BEGIN:VTIMEZONE
TZID:Europe/London
TZURL:http://tzurl.org/zoneinfo/Europe/London
X-LIC-LOCATION:Europe/London
BEGIN:DAYLIGHT
TZOFFSETFROM:+0000
TZOFFSETTO:+0100
TZNAME:BST
DTSTART:20130331T020000Z
RRULE:FREQ=YEARLY;BYMONTH=3;BYDAY=-1SU
END:DAYLIGHT
BEGIN:STANDARD
TZOFFSETFROM:+0100
TZOFFSETTO:+0000
TZNAME:GMT
DTSTART:20131027T020000Z
RRULE:FREQ=YEARLY;BYMONTH=10;BYDAY=-1SU
END:STANDARD
END:VTIMEZONE
BEGIN:VEVENT
SUMMARY:Torri del Benaco (VR) - Manifestazione
DTSTAMP:20130804T055027Z
SEQUENCE:0
UID:711-1-6ccd8bfbdc7d7428e7082354d408d14b@www.lamoneta.it
ORGANIZER;CN="Littore":no-reply@lamoneta.it
DESCRIPTION:\n25a Manifestazione filatelica numismatica TORRI 2013\nTorr
	i del Benaco (Vr)\nc/o Scuole Elementari\, viale F.lli Lavanda\nOrari\nsab
	ato 24\n   Mostra fil. num. ore 9\,00-21\,00\n   Convegno comm. ore 9\,00-
	12\,30 15\,00-18\,30\n   Mercatino Antiquariato ore 9\,00- 22\,00\n   Annu
	llo speciale ore 9\,00-13\,00\ndomenica 25\n   Mostra fil. num. ore 9\,00-
	19\,00\n   Convegno comm. ore 9\,00-13\,00\n   Mercatino Antiquariato ore 
	9\,00- 19\,00\n
DTSTART;VALUE=DATE:20130824
DTEND;VALUE=DATE:20130826
END:VEVENT
END:VCALENDAR
