BEGIN:VCALENDAR
VERSION:2.0
PRODID:-//InvisionCommunity Events 4.7.22//EN
METHOD:PUBLISH
CALSCALE:GREGORIAN
REFRESH-INTERVAL:PT15M
X-PUBLISHED-TTL:PT15M
X-WR-CALNAME:Eventi culturali
NAME:Eventi culturali
BEGIN:VTIMEZONE
TZID:Europe/London
TZURL:http://tzurl.org/zoneinfo/Europe/London
X-LIC-LOCATION:Europe/London
BEGIN:DAYLIGHT
TZOFFSETFROM:+0000
TZOFFSETTO:+0100
TZNAME:BST
DTSTART:20140330T020000Z
RRULE:FREQ=YEARLY;BYMONTH=3;BYDAY=-1SU
END:DAYLIGHT
BEGIN:STANDARD
TZOFFSETFROM:+0100
TZOFFSETTO:+0000
TZNAME:GMT
DTSTART:20141026T020000Z
RRULE:FREQ=YEARLY;BYMONTH=10;BYDAY=-1SU
END:STANDARD
END:VTIMEZONE
BEGIN:VEVENT
SUMMARY:PARMA - CONVEGNO NUMISMATICO FILATELICO
DTSTAMP:20130910T092028Z
SEQUENCE:1
UID:718-1-6ccd8bfbdc7d7428e7082354d408d14b@www.lamoneta.it
ORGANIZER;CN="SIMA ASTE":no-reply@lamoneta.it
DESCRIPTION:\n\nPARMA - CONVEGNO NUMISMATICO FILATELICO E DEL COLLEZIONI
	SMO\n\n\n\n- organizzato da Circolo numismatico filatelico di Parma -\n\n 
	\nVENERDI' 14 MARZO DALLE 14:30 ALLE 19:00\nSABATO 15 MARZO DALLE 8:30 ALL
	E 19:00\n\nNUOVA SEDE!!! PRESSO: HOTEL PARMA &amp\; CONGRESSI\n\nvia Emili
	a 281/A (in auto: autostrada A1 Milano-Bologna\, uscita Parma Ovest\, dire
	zione Pontetaro proseguire per circa 2 Km\, l'hotel si trova sulla via Emi
	lia\, sulla sinistra) \nAMPIO PARCHEGGIO GRATUITO A DISPOSIZIONE DI ESPOSI
	TORI E VISITATORI\nper saperne di più: www.cfncparma.altervista.org\n\n\n
DTSTART:20140314T133000Z
DTEND:20140315T180000Z
END:VEVENT
END:VCALENDAR
